BEGIN:VCALENDAR
VERSION:2.0
PRODID:-//The Community of New Ross - ECPv6.15.20//NONSGML v1.0//EN
CALSCALE:GREGORIAN
METHOD:PUBLISH
X-ORIGINAL-URL:https://newross.ca
X-WR-CALDESC:Events for The Community of New Ross
REFRESH-INTERVAL;VALUE=DURATION:PT1H
X-Robots-Tag:noindex
X-PUBLISHED-TTL:PT1H
BEGIN:VTIMEZONE
TZID:America/Halifax
BEGIN:DAYLIGHT
TZOFFSETFROM:-0400
TZOFFSETTO:-0300
TZNAME:ADT
DTSTART:20250309T060000
END:DAYLIGHT
BEGIN:STANDARD
TZOFFSETFROM:-0300
TZOFFSETTO:-0400
TZNAME:AST
DTSTART:20251102T050000
END:STANDARD
BEGIN:DAYLIGHT
TZOFFSETFROM:-0400
TZOFFSETTO:-0300
TZNAME:ADT
DTSTART:20260308T060000
END:DAYLIGHT
BEGIN:STANDARD
TZOFFSETFROM:-0300
TZOFFSETTO:-0400
TZNAME:AST
DTSTART:20261101T050000
END:STANDARD
BEGIN:DAYLIGHT
TZOFFSETFROM:-0400
TZOFFSETTO:-0300
TZNAME:ADT
DTSTART:20270314T060000
END:DAYLIGHT
BEGIN:STANDARD
TZOFFSETFROM:-0300
TZOFFSETTO:-0400
TZNAME:AST
DTSTART:20271107T050000
END:STANDARD
END:VTIMEZONE
BEGIN:VEVENT
DTSTART;TZID=America/Halifax:20260306T200000
DTEND;TZID=America/Halifax:20260306T230000
DTSTAMP:20260420T041746
CREATED:20260306T165453Z
LAST-MODIFIED:20260306T165453Z
UID:10014720-1772827200-1772838000@newross.ca
SUMMARY:Friday Night Live @ the Legion
DESCRIPTION:
URL:https://newross.ca/event/friday-night-live-the-legion-40/2026-03-06/
LOCATION:New Ross Legion Branch #79\, 64 Forties Road\, New Ross\, Nova Scotia\, B0J 2M0\, Canada
GEO:44.7361924;-64.4606834
X-APPLE-STRUCTURED-LOCATION;VALUE=URI;X-ADDRESS=New Ross Legion Branch #79 64 Forties Road New Ross Nova Scotia B0J 2M0 Canada;X-APPLE-RADIUS=500;X-TITLE=64 Forties Road:geo:-64.4606834,44.7361924
END:VEVENT
BEGIN:VEVENT
DTSTART;TZID=America/Halifax:20260309T090000
DTEND;TZID=America/Halifax:20260309T110000
DTSTAMP:20260420T041746
CREATED:20260306T163732Z
LAST-MODIFIED:20260306T163732Z
UID:10014626-1773046800-1773054000@newross.ca
SUMMARY:Peaceful Pause
DESCRIPTION:PEACEFUL PAUSE\n*THIS IS NOT YOGA CLASS*\nWhere: upstairs in the\nmultipurpose at the NRFRC\nMarch dates:\nMonday March 9th\n(10:00-11:00 am)\nThis is 1 hour of FREE self-care\nwith free childcare if needed.\nYou will experience an hour on\na yoga mat of relaxation through\npractices including sound bowls\,\nmeditation\, breathwork\, & yoga\nnidre which also help ease any\nstress and anxiety!
URL:https://newross.ca/event/peaceful-pause/
LOCATION:New Ross Family Resource Centre\, Hwy 12\, New Ross\, Nova Scotia\, B0J 2M0\, Canada
GEO:44.731369;-64.457645
X-APPLE-STRUCTURED-LOCATION;VALUE=URI;X-ADDRESS=New Ross Family Resource Centre Hwy 12 New Ross Nova Scotia B0J 2M0 Canada;X-APPLE-RADIUS=500;X-TITLE=Hwy 12:geo:-64.457645,44.731369
END:VEVENT
BEGIN:VEVENT
DTSTART;TZID=America/Halifax:20260330T180000
DTEND;TZID=America/Halifax:20260330T200000
DTSTAMP:20260420T041746
CREATED:20260306T164459Z
LAST-MODIFIED:20260306T164459Z
UID:10014627-1774893600-1774900800@newross.ca
SUMMARY:Basic Cooking on a Budget
DESCRIPTION:Basic Cooking on a Budget with Carol \nStay TUNED!!\nMarch 30th \nWe welcome all parents/guardians with\nchildren 18 years and younger to come learn\,\nhave a laugh\, while we help fill your pantry\nwith take home ingredients with these\nyummy home warming foods! \nPlease register on our Facebook page\, call or\nemail at nrfrcoffice@gmail.com to get your\nseat!!\nFREE CHILDCARE IS AVAILABLE!
URL:https://newross.ca/event/basic-cooking-on-a-budget/
LOCATION:New Ross Family Resource Centre\, Hwy 12\, New Ross\, Nova Scotia\, B0J 2M0\, Canada
GEO:44.731369;-64.457645
X-APPLE-STRUCTURED-LOCATION;VALUE=URI;X-ADDRESS=New Ross Family Resource Centre Hwy 12 New Ross Nova Scotia B0J 2M0 Canada;X-APPLE-RADIUS=500;X-TITLE=Hwy 12:geo:-64.457645,44.731369
END:VEVENT
BEGIN:VEVENT
DTSTART;TZID=America/Halifax:20260412T160000
DTEND;TZID=America/Halifax:20260412T180000
DTSTAMP:20260420T041746
CREATED:20260313T154131Z
LAST-MODIFIED:20260313T160215Z
UID:10014725-1776009600-1776016800@newross.ca
SUMMARY:Forties Community Supper
DESCRIPTION:
URL:https://newross.ca/event/forties-community-supper/2026-04-12/
LOCATION:Forties Community Centre\, 1787 Forties Rd\, New Ross\, Nova Scotia\, B0J 2M0\, Canada
GEO:44.731119;-64.566057
X-APPLE-STRUCTURED-LOCATION;VALUE=URI;X-ADDRESS=Forties Community Centre 1787 Forties Rd New Ross Nova Scotia B0J 2M0 Canada;X-APPLE-RADIUS=500;X-TITLE=1787 Forties Rd:geo:-64.566057,44.731119
END:VEVENT
BEGIN:VEVENT
DTSTART;TZID=America/Halifax:20260418T090000
DTEND;TZID=America/Halifax:20260418T170000
DTSTAMP:20260420T041746
CREATED:20260327T155714Z
LAST-MODIFIED:20260327T155714Z
UID:10014789-1776502800-1776531600@newross.ca
SUMMARY:Forties Garden Club_District Meeting
DESCRIPTION:
URL:https://newross.ca/event/forties-garden-club_district-meeting/
LOCATION:Forties Community Centre\, 1787 Forties Rd\, New Ross\, Nova Scotia\, B0J 2M0\, Canada
GEO:44.731119;-64.566057
X-APPLE-STRUCTURED-LOCATION;VALUE=URI;X-ADDRESS=Forties Community Centre 1787 Forties Rd New Ross Nova Scotia B0J 2M0 Canada;X-APPLE-RADIUS=500;X-TITLE=1787 Forties Rd:geo:-64.566057,44.731119
END:VEVENT
END:VCALENDAR