BEGIN:VCALENDAR
VERSION:2.0
PRODID:-//The Community of New Ross - ECPv6.15.20//NONSGML v1.0//EN
CALSCALE:GREGORIAN
METHOD:PUBLISH
X-ORIGINAL-URL:https://newross.ca
X-WR-CALDESC:Events for The Community of New Ross
REFRESH-INTERVAL;VALUE=DURATION:PT1H
X-Robots-Tag:noindex
X-PUBLISHED-TTL:PT1H
BEGIN:VTIMEZONE
TZID:America/Halifax
BEGIN:DAYLIGHT
TZOFFSETFROM:-0400
TZOFFSETTO:-0300
TZNAME:ADT
DTSTART:20230312T060000
END:DAYLIGHT
BEGIN:STANDARD
TZOFFSETFROM:-0300
TZOFFSETTO:-0400
TZNAME:AST
DTSTART:20231105T050000
END:STANDARD
BEGIN:DAYLIGHT
TZOFFSETFROM:-0400
TZOFFSETTO:-0300
TZNAME:ADT
DTSTART:20240310T060000
END:DAYLIGHT
BEGIN:STANDARD
TZOFFSETFROM:-0300
TZOFFSETTO:-0400
TZNAME:AST
DTSTART:20241103T050000
END:STANDARD
BEGIN:DAYLIGHT
TZOFFSETFROM:-0400
TZOFFSETTO:-0300
TZNAME:ADT
DTSTART:20250309T060000
END:DAYLIGHT
BEGIN:STANDARD
TZOFFSETFROM:-0300
TZOFFSETTO:-0400
TZNAME:AST
DTSTART:20251102T050000
END:STANDARD
END:VTIMEZONE
BEGIN:VEVENT
DTSTART;TZID=America/Halifax:20240701T073000
DTEND;TZID=America/Halifax:20240701T180000
DTSTAMP:20260420T091825
CREATED:20240715T173430Z
LAST-MODIFIED:20240715T173430Z
UID:10013134-1719819000-1719856800@newross.ca
SUMMARY:Summer Childcare
DESCRIPTION:
URL:https://newross.ca/event/summer-childcare/2024-07-01/
LOCATION:New Ross Family Resource Centre\, Hwy 12\, New Ross\, Nova Scotia\, B0J 2M0\, Canada
GEO:44.731369;-64.457645
X-APPLE-STRUCTURED-LOCATION;VALUE=URI;X-ADDRESS=New Ross Family Resource Centre Hwy 12 New Ross Nova Scotia B0J 2M0 Canada;X-APPLE-RADIUS=500;X-TITLE=Hwy 12:geo:-64.457645,44.731369
END:VEVENT
BEGIN:VEVENT
DTSTART;TZID=America/Halifax:20240701T090000
DTEND;TZID=America/Halifax:20240701T110000
DTSTAMP:20260420T091825
CREATED:20230818T134406Z
LAST-MODIFIED:20231209T080900Z
UID:10011765-1719824400-1719831600@newross.ca
SUMMARY:Coffee Social
DESCRIPTION:
URL:https://newross.ca/event/coffee-social-6/2024-07-01/
LOCATION:New Ross Legion Branch #79\, 64 Forties Road\, New Ross\, Nova Scotia\, B0J 2M0\, Canada
GEO:44.7361924;-64.4606834
X-APPLE-STRUCTURED-LOCATION;VALUE=URI;X-ADDRESS=New Ross Legion Branch #79 64 Forties Road New Ross Nova Scotia B0J 2M0 Canada;X-APPLE-RADIUS=500;X-TITLE=64 Forties Road:geo:-64.4606834,44.7361924
END:VEVENT
BEGIN:VEVENT
DTSTART;TZID=America/Halifax:20240701T160000
DTEND;TZID=America/Halifax:20240701T230000
DTSTAMP:20260420T091825
CREATED:20240614T142454Z
LAST-MODIFIED:20240614T142454Z
UID:10013013-1719849600-1719874800@newross.ca
SUMMARY:Canada Day @ the Legion
DESCRIPTION:Monday July 1st\n4:00pm Opening Ceremony followed by music by\nlocal musicians. 7-10pm music by “The Barkhouse Boyz”. Fireworks 10:15pm by the\nPost Office. Face Painting\, fish pond\, BBQ hamburger and hot dogs
URL:https://newross.ca/event/canada-day-the-legion/
LOCATION:New Ross Legion Branch #79\, 64 Forties Road\, New Ross\, Nova Scotia\, B0J 2M0\, Canada
GEO:44.7361924;-64.4606834
X-APPLE-STRUCTURED-LOCATION;VALUE=URI;X-ADDRESS=New Ross Legion Branch #79 64 Forties Road New Ross Nova Scotia B0J 2M0 Canada;X-APPLE-RADIUS=500;X-TITLE=64 Forties Road:geo:-64.4606834,44.7361924
END:VEVENT
BEGIN:VEVENT
DTSTART;TZID=America/Halifax:20240702T073000
DTEND;TZID=America/Halifax:20240702T180000
DTSTAMP:20260420T091825
CREATED:20240715T173430Z
LAST-MODIFIED:20240715T173430Z
UID:10013135-1719905400-1719943200@newross.ca
SUMMARY:Summer Childcare
DESCRIPTION:
URL:https://newross.ca/event/summer-childcare/2024-07-02/
LOCATION:New Ross Family Resource Centre\, Hwy 12\, New Ross\, Nova Scotia\, B0J 2M0\, Canada
GEO:44.731369;-64.457645
X-APPLE-STRUCTURED-LOCATION;VALUE=URI;X-ADDRESS=New Ross Family Resource Centre Hwy 12 New Ross Nova Scotia B0J 2M0 Canada;X-APPLE-RADIUS=500;X-TITLE=Hwy 12:geo:-64.457645,44.731369
END:VEVENT
BEGIN:VEVENT
DTSTART;TZID=America/Halifax:20240702T170000
DTEND;TZID=America/Halifax:20240702T190000
DTSTAMP:20260420T091825
CREATED:20240614T135218Z
LAST-MODIFIED:20240715T172935Z
UID:10012890-1719939600-1719946800@newross.ca
SUMMARY:New Ross Soccer
DESCRIPTION:
URL:https://newross.ca/event/new-ross-soccer/2024-07-02/
LOCATION:New Ross Consolidated School\, Hwy 12\, New Ross\, Nova Scotia\, B0J 2M0\, Canada
GEO:44.731369;-64.457645
X-APPLE-STRUCTURED-LOCATION;VALUE=URI;X-ADDRESS=New Ross Consolidated School Hwy 12 New Ross Nova Scotia B0J 2M0 Canada;X-APPLE-RADIUS=500;X-TITLE=Hwy 12:geo:-64.457645,44.731369
END:VEVENT
BEGIN:VEVENT
DTSTART;TZID=America/Halifax:20240702T190000
DTEND;TZID=America/Halifax:20240702T210000
DTSTAMP:20260420T091825
CREATED:20240715T180143Z
LAST-MODIFIED:20240903T151613Z
UID:10013182-1719946800-1719954000@newross.ca
SUMMARY:Craft Circle
DESCRIPTION:
URL:https://newross.ca/event/craft-circle/2024-07-02/
LOCATION:New Ross Family Resource Centre\, Hwy 12\, New Ross\, Nova Scotia\, B0J 2M0\, Canada
GEO:44.731369;-64.457645
X-APPLE-STRUCTURED-LOCATION;VALUE=URI;X-ADDRESS=New Ross Family Resource Centre Hwy 12 New Ross Nova Scotia B0J 2M0 Canada;X-APPLE-RADIUS=500;X-TITLE=Hwy 12:geo:-64.457645,44.731369
END:VEVENT
BEGIN:VEVENT
DTSTART;TZID=America/Halifax:20240703T073000
DTEND;TZID=America/Halifax:20240703T180000
DTSTAMP:20260420T091825
CREATED:20240715T173430Z
LAST-MODIFIED:20240715T173430Z
UID:10013136-1719991800-1720029600@newross.ca
SUMMARY:Summer Childcare
DESCRIPTION:
URL:https://newross.ca/event/summer-childcare/2024-07-03/
LOCATION:New Ross Family Resource Centre\, Hwy 12\, New Ross\, Nova Scotia\, B0J 2M0\, Canada
GEO:44.731369;-64.457645
X-APPLE-STRUCTURED-LOCATION;VALUE=URI;X-ADDRESS=New Ross Family Resource Centre Hwy 12 New Ross Nova Scotia B0J 2M0 Canada;X-APPLE-RADIUS=500;X-TITLE=Hwy 12:geo:-64.457645,44.731369
END:VEVENT
BEGIN:VEVENT
DTSTART;TZID=America/Halifax:20240703T090000
DTEND;TZID=America/Halifax:20240703T160000
DTSTAMP:20260420T091825
CREATED:20240715T173711Z
LAST-MODIFIED:20240715T173711Z
UID:10013162-1719997200-1720022400@newross.ca
SUMMARY:Food Box Program
DESCRIPTION:
URL:https://newross.ca/event/food-box-program-2/2024-07-03/
LOCATION:New Ross Family Resource Centre\, Hwy 12\, New Ross\, Nova Scotia\, B0J 2M0\, Canada
GEO:44.731369;-64.457645
X-APPLE-STRUCTURED-LOCATION;VALUE=URI;X-ADDRESS=New Ross Family Resource Centre Hwy 12 New Ross Nova Scotia B0J 2M0 Canada;X-APPLE-RADIUS=500;X-TITLE=Hwy 12:geo:-64.457645,44.731369
END:VEVENT
BEGIN:VEVENT
DTSTART;TZID=America/Halifax:20240703T183000
DTEND;TZID=America/Halifax:20240703T200000
DTSTAMP:20260420T091825
CREATED:20240209T172504Z
LAST-MODIFIED:20240715T172218Z
UID:10012681-1720031400-1720036800@newross.ca
SUMMARY:Yoga_with Mona
DESCRIPTION:Yoga with Mona: $120 per 10-week session. Yoga with Mona has been so popular that\nwe are booking a second evening! The next rounds of yoga will start March 26th for\nBeginner Yoga and March 27th for Experienced Yoga. Start dates may be pushed a week or\ntwo to accommodate any closure days over the winter. Both class times are 6:30-7:45. Call\n902-689-2414 or email NRFRCJanice@gmail.com to register.
URL:https://newross.ca/event/yoga_with-mona-2/2024-07-03/
LOCATION:New Ross Family Resource Centre\, Hwy 12\, New Ross\, Nova Scotia\, B0J 2M0\, Canada
GEO:44.731369;-64.457645
X-APPLE-STRUCTURED-LOCATION;VALUE=URI;X-ADDRESS=New Ross Family Resource Centre Hwy 12 New Ross Nova Scotia B0J 2M0 Canada;X-APPLE-RADIUS=500;X-TITLE=Hwy 12:geo:-64.457645,44.731369
END:VEVENT
BEGIN:VEVENT
DTSTART;TZID=America/Halifax:20240704T073000
DTEND;TZID=America/Halifax:20240704T180000
DTSTAMP:20260420T091825
CREATED:20240715T173430Z
LAST-MODIFIED:20240715T173430Z
UID:10013137-1720078200-1720116000@newross.ca
SUMMARY:Summer Childcare
DESCRIPTION:
URL:https://newross.ca/event/summer-childcare/2024-07-04/
LOCATION:New Ross Family Resource Centre\, Hwy 12\, New Ross\, Nova Scotia\, B0J 2M0\, Canada
GEO:44.731369;-64.457645
X-APPLE-STRUCTURED-LOCATION;VALUE=URI;X-ADDRESS=New Ross Family Resource Centre Hwy 12 New Ross Nova Scotia B0J 2M0 Canada;X-APPLE-RADIUS=500;X-TITLE=Hwy 12:geo:-64.457645,44.731369
END:VEVENT
BEGIN:VEVENT
DTSTART;TZID=America/Halifax:20240704T080000
DTEND;TZID=America/Halifax:20240704T100000
DTSTAMP:20260420T091825
CREATED:20240505T170219Z
LAST-MODIFIED:20240901T162726Z
UID:10012785-1720080000-1720087200@newross.ca
SUMMARY:Blood Collection
DESCRIPTION:ON SITE BLOOD COLLECTION every second THURSDAY. \nYou must call Colleen Hull at 624-0406 to book your appointment! \nBLOOD COLLECTION FEE $15 For in Centre Collection. \nUpcoming Dates: May 9th & 23rd June 6th & June 20th July 4th & 18th \nThese dates are subject to change pending weather conditions or lack of appointments. If you have an appointment and the clinic is cancelled\, you will be notified by Colleen and it will be posted on the Resource Centre Facebook page.
URL:https://newross.ca/event/blood-collection-52/2024-07-04/
LOCATION:New Ross Family Resource Centre\, Hwy 12\, New Ross\, Nova Scotia\, B0J 2M0\, Canada
GEO:44.731369;-64.457645
X-APPLE-STRUCTURED-LOCATION;VALUE=URI;X-ADDRESS=New Ross Family Resource Centre Hwy 12 New Ross Nova Scotia B0J 2M0 Canada;X-APPLE-RADIUS=500;X-TITLE=Hwy 12:geo:-64.457645,44.731369
END:VEVENT
BEGIN:VEVENT
DTSTART;TZID=America/Halifax:20240704T100000
DTEND;TZID=America/Halifax:20240704T120000
DTSTAMP:20260420T091825
CREATED:20240119T160339Z
LAST-MODIFIED:20241205T181635Z
UID:10012509-1720087200-1720094400@newross.ca
SUMMARY:Parent Support Group
DESCRIPTION:Parent Support Group: Free. **Note Change in Day of Week**  Thursdays 10 am – 12 noon starting January 4th. Come join Lindsay for a hot beverage\, a light snack\, and a conversation with others about the joys and trials of parenthood. Confidentiality forms are required. Call 902-689-2414 or email NRFRCDirector@gmail.com to register. Drop-ins are welcome as well! Children are welcome or childcare is available.
URL:https://newross.ca/event/parent-support-group-3/2024-07-04/
LOCATION:New Ross Family Resource Centre\, Hwy 12\, New Ross\, Nova Scotia\, B0J 2M0\, Canada
GEO:44.731369;-64.457645
X-APPLE-STRUCTURED-LOCATION;VALUE=URI;X-ADDRESS=New Ross Family Resource Centre Hwy 12 New Ross Nova Scotia B0J 2M0 Canada;X-APPLE-RADIUS=500;X-TITLE=Hwy 12:geo:-64.457645,44.731369
END:VEVENT
BEGIN:VEVENT
DTSTART;TZID=America/Halifax:20240704T170000
DTEND;TZID=America/Halifax:20240704T190000
DTSTAMP:20260420T091825
CREATED:20240614T135218Z
LAST-MODIFIED:20240715T172935Z
UID:10012891-1720112400-1720119600@newross.ca
SUMMARY:New Ross Soccer
DESCRIPTION:
URL:https://newross.ca/event/new-ross-soccer/2024-07-04/
LOCATION:New Ross Consolidated School\, Hwy 12\, New Ross\, Nova Scotia\, B0J 2M0\, Canada
GEO:44.731369;-64.457645
X-APPLE-STRUCTURED-LOCATION;VALUE=URI;X-ADDRESS=New Ross Consolidated School Hwy 12 New Ross Nova Scotia B0J 2M0 Canada;X-APPLE-RADIUS=500;X-TITLE=Hwy 12:geo:-64.457645,44.731369
END:VEVENT
BEGIN:VEVENT
DTSTART;TZID=America/Halifax:20240707T120000
DTEND;TZID=America/Halifax:20240707T170000
DTSTAMP:20260420T091825
CREATED:20231212T154204Z
LAST-MODIFIED:20231212T154204Z
UID:10012470-1720353600-1720371600@newross.ca
SUMMARY:Crib Tournament
DESCRIPTION:Crib Tournament\nDoors open 12 noon Registration starts 12:30\nPlay starts 1pm $ 20.00 / team\nFor more information call 689-2147\nCanteen\, wheelchair accessible (ground level)\nTournaments are the 1st Sunday of each month
URL:https://newross.ca/event/crib-tournament-30/2024-07-07/
LOCATION:Forties Community Centre\, 1787 Forties Rd\, New Ross\, Nova Scotia\, B0J 2M0\, Canada
GEO:44.731119;-64.566057
X-APPLE-STRUCTURED-LOCATION;VALUE=URI;X-ADDRESS=Forties Community Centre 1787 Forties Rd New Ross Nova Scotia B0J 2M0 Canada;X-APPLE-RADIUS=500;X-TITLE=1787 Forties Rd:geo:-64.566057,44.731119
END:VEVENT
BEGIN:VEVENT
DTSTART;TZID=America/Halifax:20240708T073000
DTEND;TZID=America/Halifax:20240708T180000
DTSTAMP:20260420T091825
CREATED:20240715T173430Z
LAST-MODIFIED:20240715T173430Z
UID:10013138-1720423800-1720461600@newross.ca
SUMMARY:Summer Childcare
DESCRIPTION:
URL:https://newross.ca/event/summer-childcare/2024-07-08/
LOCATION:New Ross Family Resource Centre\, Hwy 12\, New Ross\, Nova Scotia\, B0J 2M0\, Canada
GEO:44.731369;-64.457645
X-APPLE-STRUCTURED-LOCATION;VALUE=URI;X-ADDRESS=New Ross Family Resource Centre Hwy 12 New Ross Nova Scotia B0J 2M0 Canada;X-APPLE-RADIUS=500;X-TITLE=Hwy 12:geo:-64.457645,44.731369
END:VEVENT
BEGIN:VEVENT
DTSTART;TZID=America/Halifax:20240708T090000
DTEND;TZID=America/Halifax:20240708T110000
DTSTAMP:20260420T091825
CREATED:20230818T134406Z
LAST-MODIFIED:20231209T080900Z
UID:10011766-1720429200-1720436400@newross.ca
SUMMARY:Coffee Social
DESCRIPTION:
URL:https://newross.ca/event/coffee-social-6/2024-07-08/
LOCATION:New Ross Legion Branch #79\, 64 Forties Road\, New Ross\, Nova Scotia\, B0J 2M0\, Canada
GEO:44.7361924;-64.4606834
X-APPLE-STRUCTURED-LOCATION;VALUE=URI;X-ADDRESS=New Ross Legion Branch #79 64 Forties Road New Ross Nova Scotia B0J 2M0 Canada;X-APPLE-RADIUS=500;X-TITLE=64 Forties Road:geo:-64.4606834,44.7361924
END:VEVENT
BEGIN:VEVENT
DTSTART;TZID=America/Halifax:20240709T073000
DTEND;TZID=America/Halifax:20240709T180000
DTSTAMP:20260420T091825
CREATED:20240715T173430Z
LAST-MODIFIED:20240715T173430Z
UID:10013139-1720510200-1720548000@newross.ca
SUMMARY:Summer Childcare
DESCRIPTION:
URL:https://newross.ca/event/summer-childcare/2024-07-09/
LOCATION:New Ross Family Resource Centre\, Hwy 12\, New Ross\, Nova Scotia\, B0J 2M0\, Canada
GEO:44.731369;-64.457645
X-APPLE-STRUCTURED-LOCATION;VALUE=URI;X-ADDRESS=New Ross Family Resource Centre Hwy 12 New Ross Nova Scotia B0J 2M0 Canada;X-APPLE-RADIUS=500;X-TITLE=Hwy 12:geo:-64.457645,44.731369
END:VEVENT
BEGIN:VEVENT
DTSTART;TZID=America/Halifax:20240709T170000
DTEND;TZID=America/Halifax:20240709T190000
DTSTAMP:20260420T091825
CREATED:20240614T135218Z
LAST-MODIFIED:20240715T172935Z
UID:10012892-1720544400-1720551600@newross.ca
SUMMARY:New Ross Soccer
DESCRIPTION:
URL:https://newross.ca/event/new-ross-soccer/2024-07-09/
LOCATION:New Ross Consolidated School\, Hwy 12\, New Ross\, Nova Scotia\, B0J 2M0\, Canada
GEO:44.731369;-64.457645
X-APPLE-STRUCTURED-LOCATION;VALUE=URI;X-ADDRESS=New Ross Consolidated School Hwy 12 New Ross Nova Scotia B0J 2M0 Canada;X-APPLE-RADIUS=500;X-TITLE=Hwy 12:geo:-64.457645,44.731369
END:VEVENT
BEGIN:VEVENT
DTSTART;TZID=America/Halifax:20240709T190000
DTEND;TZID=America/Halifax:20240709T210000
DTSTAMP:20260420T091825
CREATED:20240715T180143Z
LAST-MODIFIED:20240903T151613Z
UID:10013183-1720551600-1720558800@newross.ca
SUMMARY:Craft Circle
DESCRIPTION:
URL:https://newross.ca/event/craft-circle/2024-07-09/
LOCATION:New Ross Family Resource Centre\, Hwy 12\, New Ross\, Nova Scotia\, B0J 2M0\, Canada
GEO:44.731369;-64.457645
X-APPLE-STRUCTURED-LOCATION;VALUE=URI;X-ADDRESS=New Ross Family Resource Centre Hwy 12 New Ross Nova Scotia B0J 2M0 Canada;X-APPLE-RADIUS=500;X-TITLE=Hwy 12:geo:-64.457645,44.731369
END:VEVENT
BEGIN:VEVENT
DTSTART;TZID=America/Halifax:20240710T073000
DTEND;TZID=America/Halifax:20240710T180000
DTSTAMP:20260420T091825
CREATED:20240715T173430Z
LAST-MODIFIED:20240715T173430Z
UID:10013140-1720596600-1720634400@newross.ca
SUMMARY:Summer Childcare
DESCRIPTION:
URL:https://newross.ca/event/summer-childcare/2024-07-10/
LOCATION:New Ross Family Resource Centre\, Hwy 12\, New Ross\, Nova Scotia\, B0J 2M0\, Canada
GEO:44.731369;-64.457645
X-APPLE-STRUCTURED-LOCATION;VALUE=URI;X-ADDRESS=New Ross Family Resource Centre Hwy 12 New Ross Nova Scotia B0J 2M0 Canada;X-APPLE-RADIUS=500;X-TITLE=Hwy 12:geo:-64.457645,44.731369
END:VEVENT
BEGIN:VEVENT
DTSTART;TZID=America/Halifax:20240710T130000
DTEND;TZID=America/Halifax:20240710T150000
DTSTAMP:20260420T091825
CREATED:20230428T141413Z
LAST-MODIFIED:20230428T141413Z
UID:10011356-1720616400-1720623600@newross.ca
SUMMARY:Caregiver Support Group
DESCRIPTION:
URL:https://newross.ca/event/caregiver-support-group/2024-07-10/
LOCATION:New Ross Family Resource Centre\, Hwy 12\, New Ross\, Nova Scotia\, B0J 2M0\, Canada
CATEGORIES:Featured
GEO:44.731369;-64.457645
X-APPLE-STRUCTURED-LOCATION;VALUE=URI;X-ADDRESS=New Ross Family Resource Centre Hwy 12 New Ross Nova Scotia B0J 2M0 Canada;X-APPLE-RADIUS=500;X-TITLE=Hwy 12:geo:-64.457645,44.731369
END:VEVENT
BEGIN:VEVENT
DTSTART;TZID=America/Halifax:20240710T183000
DTEND;TZID=America/Halifax:20240710T200000
DTSTAMP:20260420T091825
CREATED:20240209T172504Z
LAST-MODIFIED:20240715T172218Z
UID:10012682-1720636200-1720641600@newross.ca
SUMMARY:Yoga_with Mona
DESCRIPTION:Yoga with Mona: $120 per 10-week session. Yoga with Mona has been so popular that\nwe are booking a second evening! The next rounds of yoga will start March 26th for\nBeginner Yoga and March 27th for Experienced Yoga. Start dates may be pushed a week or\ntwo to accommodate any closure days over the winter. Both class times are 6:30-7:45. Call\n902-689-2414 or email NRFRCJanice@gmail.com to register.
URL:https://newross.ca/event/yoga_with-mona-2/2024-07-10/
LOCATION:New Ross Family Resource Centre\, Hwy 12\, New Ross\, Nova Scotia\, B0J 2M0\, Canada
GEO:44.731369;-64.457645
X-APPLE-STRUCTURED-LOCATION;VALUE=URI;X-ADDRESS=New Ross Family Resource Centre Hwy 12 New Ross Nova Scotia B0J 2M0 Canada;X-APPLE-RADIUS=500;X-TITLE=Hwy 12:geo:-64.457645,44.731369
END:VEVENT
BEGIN:VEVENT
DTSTART;TZID=America/Halifax:20240711T073000
DTEND;TZID=America/Halifax:20240711T180000
DTSTAMP:20260420T091825
CREATED:20240715T173430Z
LAST-MODIFIED:20240715T173430Z
UID:10013141-1720683000-1720720800@newross.ca
SUMMARY:Summer Childcare
DESCRIPTION:
URL:https://newross.ca/event/summer-childcare/2024-07-11/
LOCATION:New Ross Family Resource Centre\, Hwy 12\, New Ross\, Nova Scotia\, B0J 2M0\, Canada
GEO:44.731369;-64.457645
X-APPLE-STRUCTURED-LOCATION;VALUE=URI;X-ADDRESS=New Ross Family Resource Centre Hwy 12 New Ross Nova Scotia B0J 2M0 Canada;X-APPLE-RADIUS=500;X-TITLE=Hwy 12:geo:-64.457645,44.731369
END:VEVENT
BEGIN:VEVENT
DTSTART;TZID=America/Halifax:20240711T100000
DTEND;TZID=America/Halifax:20240711T120000
DTSTAMP:20260420T091825
CREATED:20240119T160339Z
LAST-MODIFIED:20241205T181635Z
UID:10012510-1720692000-1720699200@newross.ca
SUMMARY:Parent Support Group
DESCRIPTION:Parent Support Group: Free. **Note Change in Day of Week**  Thursdays 10 am – 12 noon starting January 4th. Come join Lindsay for a hot beverage\, a light snack\, and a conversation with others about the joys and trials of parenthood. Confidentiality forms are required. Call 902-689-2414 or email NRFRCDirector@gmail.com to register. Drop-ins are welcome as well! Children are welcome or childcare is available.
URL:https://newross.ca/event/parent-support-group-3/2024-07-11/
LOCATION:New Ross Family Resource Centre\, Hwy 12\, New Ross\, Nova Scotia\, B0J 2M0\, Canada
GEO:44.731369;-64.457645
X-APPLE-STRUCTURED-LOCATION;VALUE=URI;X-ADDRESS=New Ross Family Resource Centre Hwy 12 New Ross Nova Scotia B0J 2M0 Canada;X-APPLE-RADIUS=500;X-TITLE=Hwy 12:geo:-64.457645,44.731369
END:VEVENT
BEGIN:VEVENT
DTSTART;TZID=America/Halifax:20240711T170000
DTEND;TZID=America/Halifax:20240711T190000
DTSTAMP:20260420T091825
CREATED:20240614T135218Z
LAST-MODIFIED:20240715T172935Z
UID:10012893-1720717200-1720724400@newross.ca
SUMMARY:New Ross Soccer
DESCRIPTION:
URL:https://newross.ca/event/new-ross-soccer/2024-07-11/
LOCATION:New Ross Consolidated School\, Hwy 12\, New Ross\, Nova Scotia\, B0J 2M0\, Canada
GEO:44.731369;-64.457645
X-APPLE-STRUCTURED-LOCATION;VALUE=URI;X-ADDRESS=New Ross Consolidated School Hwy 12 New Ross Nova Scotia B0J 2M0 Canada;X-APPLE-RADIUS=500;X-TITLE=Hwy 12:geo:-64.457645,44.731369
END:VEVENT
BEGIN:VEVENT
DTSTART;TZID=America/Halifax:20240714T160000
DTEND;TZID=America/Halifax:20240714T180000
DTSTAMP:20260420T091825
CREATED:20240119T165016Z
LAST-MODIFIED:20240119T165016Z
UID:10012624-1720972800-1720980000@newross.ca
SUMMARY:FCC Supper
DESCRIPTION:
URL:https://newross.ca/event/fcc-supper/2024-07-14/
LOCATION:Forties Community Centre\, 1787 Forties Rd\, New Ross\, Nova Scotia\, B0J 2M0\, Canada
GEO:44.731119;-64.566057
X-APPLE-STRUCTURED-LOCATION;VALUE=URI;X-ADDRESS=Forties Community Centre 1787 Forties Rd New Ross Nova Scotia B0J 2M0 Canada;X-APPLE-RADIUS=500;X-TITLE=1787 Forties Rd:geo:-64.566057,44.731119
END:VEVENT
BEGIN:VEVENT
DTSTART;TZID=America/Halifax:20240715T073000
DTEND;TZID=America/Halifax:20240715T180000
DTSTAMP:20260420T091825
CREATED:20240715T173430Z
LAST-MODIFIED:20240715T173430Z
UID:10013142-1721028600-1721066400@newross.ca
SUMMARY:Summer Childcare
DESCRIPTION:
URL:https://newross.ca/event/summer-childcare/2024-07-15/
LOCATION:New Ross Family Resource Centre\, Hwy 12\, New Ross\, Nova Scotia\, B0J 2M0\, Canada
GEO:44.731369;-64.457645
X-APPLE-STRUCTURED-LOCATION;VALUE=URI;X-ADDRESS=New Ross Family Resource Centre Hwy 12 New Ross Nova Scotia B0J 2M0 Canada;X-APPLE-RADIUS=500;X-TITLE=Hwy 12:geo:-64.457645,44.731369
END:VEVENT
BEGIN:VEVENT
DTSTART;TZID=America/Halifax:20240715T090000
DTEND;TZID=America/Halifax:20240715T110000
DTSTAMP:20260420T091825
CREATED:20230818T134406Z
LAST-MODIFIED:20231209T080900Z
UID:10011767-1721034000-1721041200@newross.ca
SUMMARY:Coffee Social
DESCRIPTION:
URL:https://newross.ca/event/coffee-social-6/2024-07-15/
LOCATION:New Ross Legion Branch #79\, 64 Forties Road\, New Ross\, Nova Scotia\, B0J 2M0\, Canada
GEO:44.7361924;-64.4606834
X-APPLE-STRUCTURED-LOCATION;VALUE=URI;X-ADDRESS=New Ross Legion Branch #79 64 Forties Road New Ross Nova Scotia B0J 2M0 Canada;X-APPLE-RADIUS=500;X-TITLE=64 Forties Road:geo:-64.4606834,44.7361924
END:VEVENT
BEGIN:VEVENT
DTSTART;TZID=America/Halifax:20240715T130000
DTEND;TZID=America/Halifax:20240715T160000
DTSTAMP:20260420T091825
CREATED:20240715T175230Z
LAST-MODIFIED:20240715T175230Z
UID:10013181-1721048400-1721059200@newross.ca
SUMMARY:Help from Mona
DESCRIPTION:
URL:https://newross.ca/event/help-from-mona/
LOCATION:New Ross Family Resource Centre\, Hwy 12\, New Ross\, Nova Scotia\, B0J 2M0\, Canada
GEO:44.731369;-64.457645
X-APPLE-STRUCTURED-LOCATION;VALUE=URI;X-ADDRESS=New Ross Family Resource Centre Hwy 12 New Ross Nova Scotia B0J 2M0 Canada;X-APPLE-RADIUS=500;X-TITLE=Hwy 12:geo:-64.457645,44.731369
END:VEVENT
BEGIN:VEVENT
DTSTART;TZID=America/Halifax:20240716T073000
DTEND;TZID=America/Halifax:20240716T180000
DTSTAMP:20260420T091825
CREATED:20240715T173430Z
LAST-MODIFIED:20240715T173430Z
UID:10013143-1721115000-1721152800@newross.ca
SUMMARY:Summer Childcare
DESCRIPTION:
URL:https://newross.ca/event/summer-childcare/2024-07-16/
LOCATION:New Ross Family Resource Centre\, Hwy 12\, New Ross\, Nova Scotia\, B0J 2M0\, Canada
GEO:44.731369;-64.457645
X-APPLE-STRUCTURED-LOCATION;VALUE=URI;X-ADDRESS=New Ross Family Resource Centre Hwy 12 New Ross Nova Scotia B0J 2M0 Canada;X-APPLE-RADIUS=500;X-TITLE=Hwy 12:geo:-64.457645,44.731369
END:VEVENT
END:VCALENDAR