BEGIN:VCALENDAR
VERSION:2.0
PRODID:-//The Community of New Ross - ECPv6.15.20//NONSGML v1.0//EN
CALSCALE:GREGORIAN
METHOD:PUBLISH
X-WR-CALNAME:The Community of New Ross
X-ORIGINAL-URL:https://newross.ca
X-WR-CALDESC:Events for The Community of New Ross
REFRESH-INTERVAL;VALUE=DURATION:PT1H
X-Robots-Tag:noindex
X-PUBLISHED-TTL:PT1H
BEGIN:VTIMEZONE
TZID:America/Halifax
BEGIN:DAYLIGHT
TZOFFSETFROM:-0400
TZOFFSETTO:-0300
TZNAME:ADT
DTSTART:20250309T060000
END:DAYLIGHT
BEGIN:STANDARD
TZOFFSETFROM:-0300
TZOFFSETTO:-0400
TZNAME:AST
DTSTART:20251102T050000
END:STANDARD
BEGIN:DAYLIGHT
TZOFFSETFROM:-0400
TZOFFSETTO:-0300
TZNAME:ADT
DTSTART:20260308T060000
END:DAYLIGHT
BEGIN:STANDARD
TZOFFSETFROM:-0300
TZOFFSETTO:-0400
TZNAME:AST
DTSTART:20261101T050000
END:STANDARD
BEGIN:DAYLIGHT
TZOFFSETFROM:-0400
TZOFFSETTO:-0300
TZNAME:ADT
DTSTART:20270314T060000
END:DAYLIGHT
BEGIN:STANDARD
TZOFFSETFROM:-0300
TZOFFSETTO:-0400
TZNAME:AST
DTSTART:20271107T050000
END:STANDARD
END:VTIMEZONE
BEGIN:VEVENT
DTSTART;TZID=America/Halifax:20260510T160000
DTEND;TZID=America/Halifax:20260510T180000
DTSTAMP:20260423T144653
CREATED:20260313T154131Z
LAST-MODIFIED:20260313T160215Z
UID:10014726-1778428800-1778436000@newross.ca
SUMMARY:Forties Community Supper
DESCRIPTION:
URL:https://newross.ca/event/forties-community-supper/2026-05-10/
LOCATION:Forties Community Centre\, 1787 Forties Rd\, New Ross\, Nova Scotia\, B0J 2M0\, Canada
GEO:44.731119;-64.566057
X-APPLE-STRUCTURED-LOCATION;VALUE=URI;X-ADDRESS=Forties Community Centre 1787 Forties Rd New Ross Nova Scotia B0J 2M0 Canada;X-APPLE-RADIUS=500;X-TITLE=1787 Forties Rd:geo:-64.566057,44.731119
END:VEVENT
BEGIN:VEVENT
DTSTART;TZID=America/Halifax:20260621T160000
DTEND;TZID=America/Halifax:20260621T180000
DTSTAMP:20260423T144653
CREATED:20260313T154131Z
LAST-MODIFIED:20260313T160215Z
UID:10014727-1782057600-1782064800@newross.ca
SUMMARY:Forties Community Supper
DESCRIPTION:
URL:https://newross.ca/event/forties-community-supper/2026-06-21/
LOCATION:Forties Community Centre\, 1787 Forties Rd\, New Ross\, Nova Scotia\, B0J 2M0\, Canada
GEO:44.731119;-64.566057
X-APPLE-STRUCTURED-LOCATION;VALUE=URI;X-ADDRESS=Forties Community Centre 1787 Forties Rd New Ross Nova Scotia B0J 2M0 Canada;X-APPLE-RADIUS=500;X-TITLE=1787 Forties Rd:geo:-64.566057,44.731119
END:VEVENT
BEGIN:VEVENT
DTSTART;TZID=America/Halifax:20260712T160000
DTEND;TZID=America/Halifax:20260712T180000
DTSTAMP:20260423T144653
CREATED:20260313T154131Z
LAST-MODIFIED:20260313T160215Z
UID:10014728-1783872000-1783879200@newross.ca
SUMMARY:Forties Community Supper
DESCRIPTION:
URL:https://newross.ca/event/forties-community-supper/2026-07-12/
LOCATION:Forties Community Centre\, 1787 Forties Rd\, New Ross\, Nova Scotia\, B0J 2M0\, Canada
GEO:44.731119;-64.566057
X-APPLE-STRUCTURED-LOCATION;VALUE=URI;X-ADDRESS=Forties Community Centre 1787 Forties Rd New Ross Nova Scotia B0J 2M0 Canada;X-APPLE-RADIUS=500;X-TITLE=1787 Forties Rd:geo:-64.566057,44.731119
END:VEVENT
BEGIN:VEVENT
DTSTART;TZID=America/Halifax:20260809T160000
DTEND;TZID=America/Halifax:20260809T180000
DTSTAMP:20260423T144653
CREATED:20260313T154131Z
LAST-MODIFIED:20260313T160215Z
UID:10014729-1786291200-1786298400@newross.ca
SUMMARY:Forties Community Supper
DESCRIPTION:
URL:https://newross.ca/event/forties-community-supper/2026-08-09/
LOCATION:Forties Community Centre\, 1787 Forties Rd\, New Ross\, Nova Scotia\, B0J 2M0\, Canada
GEO:44.731119;-64.566057
X-APPLE-STRUCTURED-LOCATION;VALUE=URI;X-ADDRESS=Forties Community Centre 1787 Forties Rd New Ross Nova Scotia B0J 2M0 Canada;X-APPLE-RADIUS=500;X-TITLE=1787 Forties Rd:geo:-64.566057,44.731119
END:VEVENT
BEGIN:VEVENT
DTSTART;TZID=America/Halifax:20260913T160000
DTEND;TZID=America/Halifax:20260913T180000
DTSTAMP:20260423T144653
CREATED:20260313T154131Z
LAST-MODIFIED:20260313T160215Z
UID:10014730-1789315200-1789322400@newross.ca
SUMMARY:Forties Community Supper
DESCRIPTION:
URL:https://newross.ca/event/forties-community-supper/2026-09-13/
LOCATION:Forties Community Centre\, 1787 Forties Rd\, New Ross\, Nova Scotia\, B0J 2M0\, Canada
GEO:44.731119;-64.566057
X-APPLE-STRUCTURED-LOCATION;VALUE=URI;X-ADDRESS=Forties Community Centre 1787 Forties Rd New Ross Nova Scotia B0J 2M0 Canada;X-APPLE-RADIUS=500;X-TITLE=1787 Forties Rd:geo:-64.566057,44.731119
END:VEVENT
BEGIN:VEVENT
DTSTART;TZID=America/Halifax:20261012T120000
DTEND;TZID=America/Halifax:20261012T163000
DTSTAMP:20260423T144653
CREATED:20260313T154131Z
LAST-MODIFIED:20260313T160215Z
UID:10014733-1791806400-1791822600@newross.ca
SUMMARY:Forties Community Supper
DESCRIPTION:
URL:https://newross.ca/event/forties-community-supper/2026-10-12/
LOCATION:Forties Community Centre\, 1787 Forties Rd\, New Ross\, Nova Scotia\, B0J 2M0\, Canada
GEO:44.731119;-64.566057
X-APPLE-STRUCTURED-LOCATION;VALUE=URI;X-ADDRESS=Forties Community Centre 1787 Forties Rd New Ross Nova Scotia B0J 2M0 Canada;X-APPLE-RADIUS=500;X-TITLE=1787 Forties Rd:geo:-64.566057,44.731119
END:VEVENT
BEGIN:VEVENT
DTSTART;TZID=America/Halifax:20261205T120000
DTEND;TZID=America/Halifax:20261205T163000
DTSTAMP:20260423T144653
CREATED:20260313T154131Z
LAST-MODIFIED:20260313T160215Z
UID:10014734-1796472000-1796488200@newross.ca
SUMMARY:Forties Community Supper
DESCRIPTION:
URL:https://newross.ca/event/forties-community-supper/2026-12-05/
LOCATION:Forties Community Centre\, 1787 Forties Rd\, New Ross\, Nova Scotia\, B0J 2M0\, Canada
GEO:44.731119;-64.566057
X-APPLE-STRUCTURED-LOCATION;VALUE=URI;X-ADDRESS=Forties Community Centre 1787 Forties Rd New Ross Nova Scotia B0J 2M0 Canada;X-APPLE-RADIUS=500;X-TITLE=1787 Forties Rd:geo:-64.566057,44.731119
END:VEVENT
BEGIN:VEVENT
DTSTART;TZID=America/Halifax:20261206T120000
DTEND;TZID=America/Halifax:20261206T163000
DTSTAMP:20260423T144653
CREATED:20260313T154131Z
LAST-MODIFIED:20260313T160215Z
UID:10014735-1796558400-1796574600@newross.ca
SUMMARY:Forties Community Supper
DESCRIPTION:
URL:https://newross.ca/event/forties-community-supper/2026-12-06/
LOCATION:Forties Community Centre\, 1787 Forties Rd\, New Ross\, Nova Scotia\, B0J 2M0\, Canada
GEO:44.731119;-64.566057
X-APPLE-STRUCTURED-LOCATION;VALUE=URI;X-ADDRESS=Forties Community Centre 1787 Forties Rd New Ross Nova Scotia B0J 2M0 Canada;X-APPLE-RADIUS=500;X-TITLE=1787 Forties Rd:geo:-64.566057,44.731119
END:VEVENT
END:VCALENDAR