BEGIN:VCALENDAR
VERSION:2.0
PRODID:-//The Community of New Ross - ECPv6.15.20//NONSGML v1.0//EN
CALSCALE:GREGORIAN
METHOD:PUBLISH
X-ORIGINAL-URL:https://newross.ca
X-WR-CALDESC:Events for The Community of New Ross
REFRESH-INTERVAL;VALUE=DURATION:PT1H
X-Robots-Tag:noindex
X-PUBLISHED-TTL:PT1H
BEGIN:VTIMEZONE
TZID:America/Halifax
BEGIN:DAYLIGHT
TZOFFSETFROM:-0400
TZOFFSETTO:-0300
TZNAME:ADT
DTSTART:20140309T060000
END:DAYLIGHT
BEGIN:STANDARD
TZOFFSETFROM:-0300
TZOFFSETTO:-0400
TZNAME:AST
DTSTART:20141102T050000
END:STANDARD
BEGIN:DAYLIGHT
TZOFFSETFROM:-0400
TZOFFSETTO:-0300
TZNAME:ADT
DTSTART:20150308T060000
END:DAYLIGHT
BEGIN:STANDARD
TZOFFSETFROM:-0300
TZOFFSETTO:-0400
TZNAME:AST
DTSTART:20151101T050000
END:STANDARD
BEGIN:DAYLIGHT
TZOFFSETFROM:-0400
TZOFFSETTO:-0300
TZNAME:ADT
DTSTART:20160313T060000
END:DAYLIGHT
BEGIN:STANDARD
TZOFFSETFROM:-0300
TZOFFSETTO:-0400
TZNAME:AST
DTSTART:20161106T050000
END:STANDARD
BEGIN:DAYLIGHT
TZOFFSETFROM:-0400
TZOFFSETTO:-0300
TZNAME:ADT
DTSTART:20170312T060000
END:DAYLIGHT
BEGIN:STANDARD
TZOFFSETFROM:-0300
TZOFFSETTO:-0400
TZNAME:AST
DTSTART:20171105T050000
END:STANDARD
END:VTIMEZONE
BEGIN:VEVENT
DTSTART;TZID=America/Halifax:20161207T130000
DTEND;TZID=America/Halifax:20161207T160000
DTSTAMP:20260420T092846
CREATED:20161129T175603Z
LAST-MODIFIED:20161129T175655Z
UID:10000087-1481115600-1481126400@newross.ca
SUMMARY:Annual Seniors' Christmas Party
DESCRIPTION:Join us at the Chester Legion\, on Wednesday\, December 7\, 1:00 – 4:00 pm. Free to all seniors in the Municipality of Chester.
URL:https://newross.ca/event/annual-seniors-christmas-party/
LOCATION:Chester Legion
END:VEVENT
BEGIN:VEVENT
DTSTART;TZID=America/Halifax:20151202T123000
DTEND;TZID=America/Halifax:20151202T150000
DTSTAMP:20260420T092846
CREATED:20151126T191845Z
LAST-MODIFIED:20151126T191845Z
UID:10001026-1449059400-1449068400@newross.ca
SUMMARY:Seniors Christmas Party
DESCRIPTION:All seniors are invited to a Christmas Party at the Chester Legion on Wed. Dec. 2nd\, starting at 1pm (doors open at 12:30pm). This will be a fun afternoon of refreshments\, games\, and Christmas songs. There will be a visit from Mr. & Mrs. Claus as well. \nSeating is limited. Please register by calling Chester Municipality at 902-275-3490. \nCommunity Wheels is available to those needing a ride\, provided you reserve in advance.
URL:https://newross.ca/event/seniors-christmas-party/
LOCATION:Chester Legion
END:VEVENT
END:VCALENDAR