BEGIN:VCALENDAR
VERSION:2.0
PRODID:-//The Community of New Ross - ECPv6.15.20//NONSGML v1.0//EN
CALSCALE:GREGORIAN
METHOD:PUBLISH
X-ORIGINAL-URL:https://newross.ca
X-WR-CALDESC:Events for The Community of New Ross
REFRESH-INTERVAL;VALUE=DURATION:PT1H
X-Robots-Tag:noindex
X-PUBLISHED-TTL:PT1H
BEGIN:VTIMEZONE
TZID:America/Halifax
BEGIN:DAYLIGHT
TZOFFSETFROM:-0400
TZOFFSETTO:-0300
TZNAME:ADT
DTSTART:20230312T060000
END:DAYLIGHT
BEGIN:STANDARD
TZOFFSETFROM:-0300
TZOFFSETTO:-0400
TZNAME:AST
DTSTART:20231105T050000
END:STANDARD
BEGIN:DAYLIGHT
TZOFFSETFROM:-0400
TZOFFSETTO:-0300
TZNAME:ADT
DTSTART:20240310T060000
END:DAYLIGHT
BEGIN:STANDARD
TZOFFSETFROM:-0300
TZOFFSETTO:-0400
TZNAME:AST
DTSTART:20241103T050000
END:STANDARD
BEGIN:DAYLIGHT
TZOFFSETFROM:-0400
TZOFFSETTO:-0300
TZNAME:ADT
DTSTART:20250309T060000
END:DAYLIGHT
BEGIN:STANDARD
TZOFFSETFROM:-0300
TZOFFSETTO:-0400
TZNAME:AST
DTSTART:20251102T050000
END:STANDARD
BEGIN:DAYLIGHT
TZOFFSETFROM:-0400
TZOFFSETTO:-0300
TZNAME:ADT
DTSTART:20260308T060000
END:DAYLIGHT
BEGIN:STANDARD
TZOFFSETFROM:-0300
TZOFFSETTO:-0400
TZNAME:AST
DTSTART:20261101T050000
END:STANDARD
END:VTIMEZONE
BEGIN:VEVENT
DTSTART;TZID=America/Halifax:20251122T130000
DTEND;TZID=America/Halifax:20251122T150000
DTSTAMP:20260419T100225
CREATED:20251111T232601Z
LAST-MODIFIED:20251111T232601Z
UID:10014583-1763816400-1763823600@newross.ca
SUMMARY:Paint Event
DESCRIPTION:
URL:https://newross.ca/event/paint-event/
LOCATION:New Ross Family Resource Centre\, Hwy 12\, New Ross\, Nova Scotia\, B0J 2M0\, Canada
GEO:44.731369;-64.457645
X-APPLE-STRUCTURED-LOCATION;VALUE=URI;X-ADDRESS=New Ross Family Resource Centre Hwy 12 New Ross Nova Scotia B0J 2M0 Canada;X-APPLE-RADIUS=500;X-TITLE=Hwy 12:geo:-64.457645,44.731369
END:VEVENT
BEGIN:VEVENT
DTSTART;TZID=America/Halifax:20251118T093000
DTEND;TZID=America/Halifax:20251118T110000
DTSTAMP:20260419T100225
CREATED:20250906T124239Z
LAST-MODIFIED:20250906T124239Z
UID:10014507-1763458200-1763463600@newross.ca
SUMMARY:Yoga with Mona
DESCRIPTION:YOGA with MONA KEDDY:\nThe next sessions will begin…\nTUESDAYS SEPTEMBER 9th\n(mornings) 9:30am-10:45 am\nWEDNESDAYS SEPTEMBER 10th\n(evenings) 6:30pm-7:45pm.\nPlease email Janice at nrfrcjanice@gmail.com to register\,\nfor more info on fees\, length of session.
URL:https://newross.ca/event/yoga-with-mona-9/2025-11-18/
LOCATION:New Ross Family Resource Centre\, Hwy 12\, New Ross\, Nova Scotia\, B0J 2M0\, Canada
GEO:44.731369;-64.457645
X-APPLE-STRUCTURED-LOCATION;VALUE=URI;X-ADDRESS=New Ross Family Resource Centre Hwy 12 New Ross Nova Scotia B0J 2M0 Canada;X-APPLE-RADIUS=500;X-TITLE=Hwy 12:geo:-64.457645,44.731369
END:VEVENT
BEGIN:VEVENT
DTSTART;TZID=America/Halifax:20251112T183000
DTEND;TZID=America/Halifax:20251112T200000
DTSTAMP:20260419T100225
CREATED:20250906T124404Z
LAST-MODIFIED:20250906T124404Z
UID:10014517-1762972200-1762977600@newross.ca
SUMMARY:Yoga with Mona
DESCRIPTION:YOGA with MONA KEDDY:\nThe next sessions will begin…\nTUESDAYS SEPTEMBER 9th\n(mornings) 9:30am-10:45 am\nWEDNESDAYS SEPTEMBER 10th\n(evenings) 6:30pm-7:45pm.\nPlease email Janice at nrfrcjanice@gmail.com to register\,\nfor more info on fees\, length of session.
URL:https://newross.ca/event/yoga-with-mona-10/2025-11-12/
LOCATION:New Ross Family Resource Centre\, Hwy 12\, New Ross\, Nova Scotia\, B0J 2M0\, Canada
GEO:44.731369;-64.457645
X-APPLE-STRUCTURED-LOCATION;VALUE=URI;X-ADDRESS=New Ross Family Resource Centre Hwy 12 New Ross Nova Scotia B0J 2M0 Canada;X-APPLE-RADIUS=500;X-TITLE=Hwy 12:geo:-64.457645,44.731369
END:VEVENT
BEGIN:VEVENT
DTSTART;TZID=America/Halifax:20251023T143000
DTEND;TZID=America/Halifax:20251023T163000
DTSTAMP:20260419T100225
CREATED:20250906T124006Z
LAST-MODIFIED:20250906T124006Z
UID:10014496-1761229800-1761237000@newross.ca
SUMMARY:Dance Class
DESCRIPTION:En Pointe comes to New Ross!\nJoin us for an exciting six-week afterschool Dance Program starting\nThursday September 18th.\nGrades PP – 2: 2:30pm-3:15pm\nGrades 3-5: 3:15-4:15pm\nWatch our Facebook page for Registration sign up!!
URL:https://newross.ca/event/dance-class-4/2025-10-23/
LOCATION:New Ross Family Resource Centre\, Hwy 12\, New Ross\, Nova Scotia\, B0J 2M0\, Canada
GEO:44.731369;-64.457645
X-APPLE-STRUCTURED-LOCATION;VALUE=URI;X-ADDRESS=New Ross Family Resource Centre Hwy 12 New Ross Nova Scotia B0J 2M0 Canada;X-APPLE-RADIUS=500;X-TITLE=Hwy 12:geo:-64.457645,44.731369
END:VEVENT
BEGIN:VEVENT
DTSTART;TZID=America/Halifax:20250921T150000
DTEND;TZID=America/Halifax:20250921T160000
DTSTAMP:20260419T100225
CREATED:20250906T124555Z
LAST-MODIFIED:20250906T124555Z
UID:10014518-1758466800-1758470400@newross.ca
SUMMARY:Sound Bath Session with Mona
DESCRIPTION:Sound Bath with Mona Sunday\, September 21 3-4pm\nWhere: Resource Centre\, New Ross\nLimited to 14 people\nPlease bring a yoga mat if possible\, a pillow and a blanket.\nExperience a deep relaxation session that uses the ancient\npractice of sound resonance to settle the mind and soothe\nthe body. You will be bathed in sounds from Tibetan bowls\,\nsmall gongs\, a hand pan drum and a Japanese flute.\nThe various resonances create an immersive experience that\ncan promote relaxation and inner connection.\nThe hour will include a brief explanation or orientation to the\npractice and a seated and / or lying down sound bath session.\nEveryone is welcome.\nCost: optional cash donation at the door\nBecause space is limited\, please register in advance by\nemail to monakeddy@gmail.com\nor call / text 1-514-885-7132
URL:https://newross.ca/event/sound-bath-session-with-mona/
LOCATION:New Ross Family Resource Centre\, Hwy 12\, New Ross\, Nova Scotia\, B0J 2M0\, Canada
GEO:44.731369;-64.457645
X-APPLE-STRUCTURED-LOCATION;VALUE=URI;X-ADDRESS=New Ross Family Resource Centre Hwy 12 New Ross Nova Scotia B0J 2M0 Canada;X-APPLE-RADIUS=500;X-TITLE=Hwy 12:geo:-64.457645,44.731369
END:VEVENT
BEGIN:VEVENT
DTSTART;TZID=America/Halifax:20250821T073000
DTEND;TZID=America/Halifax:20250821T170000
DTSTAMP:20260419T100225
CREATED:20250801T180950Z
LAST-MODIFIED:20250815T164807Z
UID:10014166-1755761400-1755795600@newross.ca
SUMMARY:Summer Camp
DESCRIPTION:
URL:https://newross.ca/event/summer-camp-3/2025-08-21/
LOCATION:New Ross Family Resource Centre\, Hwy 12\, New Ross\, Nova Scotia\, B0J 2M0\, Canada
GEO:44.731369;-64.457645
X-APPLE-STRUCTURED-LOCATION;VALUE=URI;X-ADDRESS=New Ross Family Resource Centre Hwy 12 New Ross Nova Scotia B0J 2M0 Canada;X-APPLE-RADIUS=500;X-TITLE=Hwy 12:geo:-64.457645,44.731369
END:VEVENT
BEGIN:VEVENT
DTSTART;TZID=America/Halifax:20250814T183000
DTEND;TZID=America/Halifax:20250814T200000
DTSTAMP:20260419T100225
CREATED:20250801T181554Z
LAST-MODIFIED:20250801T181554Z
UID:10014427-1755196200-1755201600@newross.ca
SUMMARY:Annual General Meeting-NR DayCare
DESCRIPTION:Annual General Meeting Notice\nNew Ross Daycare\nThe Board of Directors of the New Ross Preschool Society invites you\nto attend the Annual General Meeting which will be held on Thursday\,\nAugust 14th\, 2025\, beginning at 6:30 pm.\nThis meeting is open to the public.\nLocation: 4691 Hwy 12\, New Ross. Upper level of the Family Resource\nCentre
URL:https://newross.ca/event/annual-general-meeting-nr-daycare/
LOCATION:New Ross Family Resource Centre\, Hwy 12\, New Ross\, Nova Scotia\, B0J 2M0\, Canada
GEO:44.731369;-64.457645
X-APPLE-STRUCTURED-LOCATION;VALUE=URI;X-ADDRESS=New Ross Family Resource Centre Hwy 12 New Ross Nova Scotia B0J 2M0 Canada;X-APPLE-RADIUS=500;X-TITLE=Hwy 12:geo:-64.457645,44.731369
END:VEVENT
BEGIN:VEVENT
DTSTART;TZID=America/Halifax:20250801T143000
DTEND;TZID=America/Halifax:20250801T180000
DTSTAMP:20260419T100225
CREATED:20250221T180447Z
LAST-MODIFIED:20250801T180600Z
UID:10013841-1754058600-1754071200@newross.ca
SUMMARY:Afterschool Program
DESCRIPTION:Monday-Friday throughout the school year. \nThe AfterSchool Program (ASP) starts at 12:25 pm\non embedded days. ASP is closed on days\nthere is no school. For more information\nand availability\, contact Janice. NRFRCJANICE@gmail.com
URL:https://newross.ca/event/afterschool-program-2/2025-08-01/
LOCATION:New Ross Family Resource Centre\, Hwy 12\, New Ross\, Nova Scotia\, B0J 2M0\, Canada
GEO:44.731369;-64.457645
X-APPLE-STRUCTURED-LOCATION;VALUE=URI;X-ADDRESS=New Ross Family Resource Centre Hwy 12 New Ross Nova Scotia B0J 2M0 Canada;X-APPLE-RADIUS=500;X-TITLE=Hwy 12:geo:-64.457645,44.731369
END:VEVENT
BEGIN:VEVENT
DTSTART;TZID=America/Halifax:20250624T153000
DTEND;TZID=America/Halifax:20250624T163000
DTSTAMP:20260419T100225
CREATED:20241205T171441Z
LAST-MODIFIED:20241205T171441Z
UID:10013467-1750779000-1750782600@newross.ca
SUMMARY:Sparks
DESCRIPTION:Do you have a girl aged 5-6? Join Sparks this fall for a fun group where she can make\nfriends\, build confidence\, and learn valuable life skills. Meetings every Tuesday will\ninclude singing\, games\, crafts\, and more\, all while being part of a global community.\nHelp her create a better world through this enriching experience!\nRegistration is available on their facebook page
URL:https://newross.ca/event/sparks/2025-06-24/
LOCATION:New Ross Family Resource Centre\, Hwy 12\, New Ross\, Nova Scotia\, B0J 2M0\, Canada
GEO:44.731369;-64.457645
X-APPLE-STRUCTURED-LOCATION;VALUE=URI;X-ADDRESS=New Ross Family Resource Centre Hwy 12 New Ross Nova Scotia B0J 2M0 Canada;X-APPLE-RADIUS=500;X-TITLE=Hwy 12:geo:-64.457645,44.731369
END:VEVENT
BEGIN:VEVENT
DTSTART;TZID=America/Halifax:20250624T100000
DTEND;TZID=America/Halifax:20250624T113000
DTSTAMP:20260419T100225
CREATED:20250410T195513Z
LAST-MODIFIED:20250410T195513Z
UID:10014097-1750759200-1750764600@newross.ca
SUMMARY:Playgroup
DESCRIPTION:This program is designed for families with children aged birth to 5 years. It features\nfree play\, art activities\, reading\, music\, and a healthy snack\, along with a chance for\nadults to connect. Please note that the Play Group will be cancelled when school is\nnot in session.
URL:https://newross.ca/event/playgroup-8-2/2025-06-24/
LOCATION:New Ross Family Resource Centre\, Hwy 12\, New Ross\, Nova Scotia\, B0J 2M0\, Canada
GEO:44.731369;-64.457645
X-APPLE-STRUCTURED-LOCATION;VALUE=URI;X-ADDRESS=New Ross Family Resource Centre Hwy 12 New Ross Nova Scotia B0J 2M0 Canada;X-APPLE-RADIUS=500;X-TITLE=Hwy 12:geo:-64.457645,44.731369
END:VEVENT
BEGIN:VEVENT
DTSTART;TZID=America/Halifax:20250619T080000
DTEND;TZID=America/Halifax:20250619T093000
DTSTAMP:20260419T100225
CREATED:20250410T194925Z
LAST-MODIFIED:20250410T194925Z
UID:10014081-1750320000-1750325400@newross.ca
SUMMARY:Blood Collection
DESCRIPTION:ON SITE BLOOD COLLECTION every second THURSDAY. \nYou must call Colleen Hull at 624-0406 to book your appointment! \nBLOOD COLLECTION FEE $15 For in Centre Collection. \nDates are subject to change pending weather conditions or lack of appointments.  If you have an appointment and the clinic is cancelled\, you will be notified by Colleen and it will be posted on the Resource Centre Facebook page.
URL:https://newross.ca/event/blood-collection-54/2025-06-19/
LOCATION:New Ross Family Resource Centre\, Hwy 12\, New Ross\, Nova Scotia\, B0J 2M0\, Canada
GEO:44.731369;-64.457645
X-APPLE-STRUCTURED-LOCATION;VALUE=URI;X-ADDRESS=New Ross Family Resource Centre Hwy 12 New Ross Nova Scotia B0J 2M0 Canada;X-APPLE-RADIUS=500;X-TITLE=Hwy 12:geo:-64.457645,44.731369
END:VEVENT
BEGIN:VEVENT
DTSTART;TZID=America/Halifax:20250618T143000
DTEND;TZID=America/Halifax:20250618T170000
DTSTAMP:20260419T100225
CREATED:20250410T201642Z
LAST-MODIFIED:20250410T201642Z
UID:10014150-1750257000-1750266000@newross.ca
SUMMARY:The Song Circle
DESCRIPTION:
URL:https://newross.ca/event/the-song-circle/2025-06-18/
LOCATION:New Ross Family Resource Centre\, Hwy 12\, New Ross\, Nova Scotia\, B0J 2M0\, Canada
GEO:44.731369;-64.457645
X-APPLE-STRUCTURED-LOCATION;VALUE=URI;X-ADDRESS=New Ross Family Resource Centre Hwy 12 New Ross Nova Scotia B0J 2M0 Canada;X-APPLE-RADIUS=500;X-TITLE=Hwy 12:geo:-64.457645,44.731369
END:VEVENT
BEGIN:VEVENT
DTSTART;TZID=America/Halifax:20250610T133000
DTEND;TZID=America/Halifax:20250610T150000
DTSTAMP:20260419T100225
CREATED:20250410T195323Z
LAST-MODIFIED:20250410T195323Z
UID:10014087-1749562200-1749567600@newross.ca
SUMMARY:Self Regulation
DESCRIPTION:
URL:https://newross.ca/event/self-regulation-2/2025-06-10/
LOCATION:New Ross Family Resource Centre\, Hwy 12\, New Ross\, Nova Scotia\, B0J 2M0\, Canada
GEO:44.731369;-64.457645
X-APPLE-STRUCTURED-LOCATION;VALUE=URI;X-ADDRESS=New Ross Family Resource Centre Hwy 12 New Ross Nova Scotia B0J 2M0 Canada;X-APPLE-RADIUS=500;X-TITLE=Hwy 12:geo:-64.457645,44.731369
END:VEVENT
BEGIN:VEVENT
DTSTART;TZID=America/Halifax:20250603T093000
DTEND;TZID=America/Halifax:20250603T230000
DTSTAMP:20260419T100225
CREATED:20250410T195921Z
LAST-MODIFIED:20250410T195921Z
UID:10014111-1748943000-1748991600@newross.ca
SUMMARY:Yoga with Mona
DESCRIPTION:
URL:https://newross.ca/event/yoga-with-mona-8/2025-06-03/
LOCATION:New Ross Family Resource Centre\, Hwy 12\, New Ross\, Nova Scotia\, B0J 2M0\, Canada
GEO:44.731369;-64.457645
X-APPLE-STRUCTURED-LOCATION;VALUE=URI;X-ADDRESS=New Ross Family Resource Centre Hwy 12 New Ross Nova Scotia B0J 2M0 Canada;X-APPLE-RADIUS=500;X-TITLE=Hwy 12:geo:-64.457645,44.731369
END:VEVENT
BEGIN:VEVENT
DTSTART;TZID=America/Halifax:20250528T143000
DTEND;TZID=America/Halifax:20250528T170000
DTSTAMP:20260419T100225
CREATED:20250410T195729Z
LAST-MODIFIED:20250410T195729Z
UID:10014101-1748442600-1748451600@newross.ca
SUMMARY:Girl Talk
DESCRIPTION:
URL:https://newross.ca/event/girl-talk-4/2025-05-28/
LOCATION:New Ross Family Resource Centre\, Hwy 12\, New Ross\, Nova Scotia\, B0J 2M0\, Canada
GEO:44.731369;-64.457645
X-APPLE-STRUCTURED-LOCATION;VALUE=URI;X-ADDRESS=New Ross Family Resource Centre Hwy 12 New Ross Nova Scotia B0J 2M0 Canada;X-APPLE-RADIUS=500;X-TITLE=Hwy 12:geo:-64.457645,44.731369
END:VEVENT
BEGIN:VEVENT
DTSTART;TZID=America/Halifax:20250227T080000
DTEND;TZID=America/Halifax:20250227T100000
DTSTAMP:20260419T100225
CREATED:20240901T163026Z
LAST-MODIFIED:20241205T170404Z
UID:10013413-1740643200-1740650400@newross.ca
SUMMARY:Blood Collection
DESCRIPTION:ON SITE BLOOD COLLECTION every second THURSDAY.\nYou must call Colleen Hull at (902) 624-0406 to book your appointment!\nBLOOD COLLECTION FEE $15 For in Centre Collection \nThese dates are subject to change pending weather conditions or lack of appointments.\nIf you have an appointment and the clinic is cancelled\, you will be notified by Colleen and it\nwill be posted on the Resource Centre Facebook page
URL:https://newross.ca/event/blood-collection-53/2025-02-27/
LOCATION:New Ross Family Resource Centre\, Hwy 12\, New Ross\, Nova Scotia\, B0J 2M0\, Canada
GEO:44.731369;-64.457645
X-APPLE-STRUCTURED-LOCATION;VALUE=URI;X-ADDRESS=New Ross Family Resource Centre Hwy 12 New Ross Nova Scotia B0J 2M0 Canada;X-APPLE-RADIUS=500;X-TITLE=Hwy 12:geo:-64.457645,44.731369
END:VEVENT
BEGIN:VEVENT
DTSTART;TZID=America/Halifax:20241220T143000
DTEND;TZID=America/Halifax:20241220T180000
DTSTAMP:20260419T100225
CREATED:20240903T144546Z
LAST-MODIFIED:20240903T144546Z
UID:10013338-1734705000-1734717600@newross.ca
SUMMARY:Afterschool Program
DESCRIPTION:Monday-Friday throughout the school year. \nThe AfterSchool Program (ASP) starts at 12:25 pm\non embedded days. ASP is closed on days\nthere is no school. For more information\nand availability\, contact Janice. NRFRCJANICE@gmail.com
URL:https://newross.ca/event/afterschool-program/2024-12-20/
LOCATION:New Ross Family Resource Centre\, Hwy 12\, New Ross\, Nova Scotia\, B0J 2M0\, Canada
GEO:44.731369;-64.457645
X-APPLE-STRUCTURED-LOCATION;VALUE=URI;X-ADDRESS=New Ross Family Resource Centre Hwy 12 New Ross Nova Scotia B0J 2M0 Canada;X-APPLE-RADIUS=500;X-TITLE=Hwy 12:geo:-64.457645,44.731369
END:VEVENT
BEGIN:VEVENT
DTSTART;TZID=America/Halifax:20241216T100000
DTEND;TZID=America/Halifax:20241216T110000
DTSTAMP:20260419T100225
CREATED:20240903T152716Z
LAST-MODIFIED:20240903T152716Z
UID:10013378-1734343200-1734346800@newross.ca
SUMMARY:Be Moved
DESCRIPTION:
URL:https://newross.ca/event/be-moved/2024-12-16/
LOCATION:New Ross Family Resource Centre\, Hwy 12\, New Ross\, Nova Scotia\, B0J 2M0\, Canada
GEO:44.731369;-64.457645
X-APPLE-STRUCTURED-LOCATION;VALUE=URI;X-ADDRESS=New Ross Family Resource Centre Hwy 12 New Ross Nova Scotia B0J 2M0 Canada;X-APPLE-RADIUS=500;X-TITLE=Hwy 12:geo:-64.457645,44.731369
END:VEVENT
BEGIN:VEVENT
DTSTART;TZID=America/Halifax:20241211T183000
DTEND;TZID=America/Halifax:20241211T200000
DTSTAMP:20260419T100225
CREATED:20240903T144921Z
LAST-MODIFIED:20240903T144921Z
UID:10013350-1733941800-1733947200@newross.ca
SUMMARY:Yoga with Mona
DESCRIPTION:Mona is offering 12-week yoga sessions\nstarting September 25 for $144. If there\nis enough interest we will resume Tuesday\nYoga\, and are exploring the possibility of\nhaving it take place in the morning. Let\nus know if you prefer Tuesday morning or\nafternoon! This will be in 2 6-week sessions
URL:https://newross.ca/event/yoga-with-mona-7/2024-12-11/
LOCATION:New Ross Family Resource Centre\, Hwy 12\, New Ross\, Nova Scotia\, B0J 2M0\, Canada
GEO:44.731369;-64.457645
X-APPLE-STRUCTURED-LOCATION;VALUE=URI;X-ADDRESS=New Ross Family Resource Centre Hwy 12 New Ross Nova Scotia B0J 2M0 Canada;X-APPLE-RADIUS=500;X-TITLE=Hwy 12:geo:-64.457645,44.731369
END:VEVENT
BEGIN:VEVENT
DTSTART;TZID=America/Halifax:20241211T130000
DTEND;TZID=America/Halifax:20241211T150000
DTSTAMP:20260419T100225
CREATED:20230428T141413Z
LAST-MODIFIED:20230428T141413Z
UID:10011361-1733922000-1733929200@newross.ca
SUMMARY:Caregiver Support Group
DESCRIPTION:
URL:https://newross.ca/event/caregiver-support-group/2024-12-11/
LOCATION:New Ross Family Resource Centre\, Hwy 12\, New Ross\, Nova Scotia\, B0J 2M0\, Canada
CATEGORIES:Featured
GEO:44.731369;-64.457645
X-APPLE-STRUCTURED-LOCATION;VALUE=URI;X-ADDRESS=New Ross Family Resource Centre Hwy 12 New Ross Nova Scotia B0J 2M0 Canada;X-APPLE-RADIUS=500;X-TITLE=Hwy 12:geo:-64.457645,44.731369
END:VEVENT
BEGIN:VEVENT
DTSTART;TZID=America/Halifax:20241209T093000
DTEND;TZID=America/Halifax:20241209T113000
DTSTAMP:20260419T100225
CREATED:20241205T171651Z
LAST-MODIFIED:20241205T171651Z
UID:10013468-1733736600-1733743800@newross.ca
SUMMARY:SSRCE Job Fair
DESCRIPTION:Interested in working with the SSRCE? Stop by to learn more about current\nopportunities including Teacher Assistants (TAs)\, Child & Youth Care Practitioners\n(CYCPs)\, Food Service Workers\, Janitors\, & Bus Drivers
URL:https://newross.ca/event/ssrce-job-fair/
LOCATION:New Ross Family Resource Centre\, Hwy 12\, New Ross\, Nova Scotia\, B0J 2M0\, Canada
GEO:44.731369;-64.457645
X-APPLE-STRUCTURED-LOCATION;VALUE=URI;X-ADDRESS=New Ross Family Resource Centre Hwy 12 New Ross Nova Scotia B0J 2M0 Canada;X-APPLE-RADIUS=500;X-TITLE=Hwy 12:geo:-64.457645,44.731369
END:VEVENT
BEGIN:VEVENT
DTSTART;TZID=America/Halifax:20241207T110000
DTEND;TZID=America/Halifax:20241207T140000
DTSTAMP:20260419T100225
CREATED:20241205T171959Z
LAST-MODIFIED:20241205T171959Z
UID:10013469-1733569200-1733580000@newross.ca
SUMMARY:NRFRC Christmas Festival Fun
DESCRIPTION:
URL:https://newross.ca/event/nrfrc-christmas-festival-fun/
LOCATION:New Ross Family Resource Centre\, Hwy 12\, New Ross\, Nova Scotia\, B0J 2M0\, Canada
GEO:44.731369;-64.457645
X-APPLE-STRUCTURED-LOCATION;VALUE=URI;X-ADDRESS=New Ross Family Resource Centre Hwy 12 New Ross Nova Scotia B0J 2M0 Canada;X-APPLE-RADIUS=500;X-TITLE=Hwy 12:geo:-64.457645,44.731369
END:VEVENT
BEGIN:VEVENT
DTSTART;TZID=America/Halifax:20241205T080000
DTEND;TZID=America/Halifax:20241205T170000
DTSTAMP:20260419T100225
CREATED:20240119T160339Z
LAST-MODIFIED:20241205T181635Z
UID:10013551-1733385600-1733418000@newross.ca
SUMMARY:Parent Support Group
DESCRIPTION:Parent Support Group: Free. **Note Change in Day of Week**  Thursdays 10 am – 12 noon starting January 4th. Come join Lindsay for a hot beverage\, a light snack\, and a conversation with others about the joys and trials of parenthood. Confidentiality forms are required. Call 902-689-2414 or email NRFRCDirector@gmail.com to register. Drop-ins are welcome as well! Children are welcome or childcare is available.
URL:https://newross.ca/event/parent-support-group-3/2024-12-05/1/
LOCATION:New Ross Family Resource Centre\, Hwy 12\, New Ross\, Nova Scotia\, B0J 2M0\, Canada
GEO:44.731369;-64.457645
X-APPLE-STRUCTURED-LOCATION;VALUE=URI;X-ADDRESS=New Ross Family Resource Centre Hwy 12 New Ross Nova Scotia B0J 2M0 Canada;X-APPLE-RADIUS=500;X-TITLE=Hwy 12:geo:-64.457645,44.731369
END:VEVENT
BEGIN:VEVENT
DTSTART;TZID=America/Halifax:20241204T090000
DTEND;TZID=America/Halifax:20241204T160000
DTSTAMP:20260419T100225
CREATED:20240715T173711Z
LAST-MODIFIED:20240715T173711Z
UID:10013167-1733302800-1733328000@newross.ca
SUMMARY:Food Box Program
DESCRIPTION:
URL:https://newross.ca/event/food-box-program-2/2024-12-04/
LOCATION:New Ross Family Resource Centre\, Hwy 12\, New Ross\, Nova Scotia\, B0J 2M0\, Canada
GEO:44.731369;-64.457645
X-APPLE-STRUCTURED-LOCATION;VALUE=URI;X-ADDRESS=New Ross Family Resource Centre Hwy 12 New Ross Nova Scotia B0J 2M0 Canada;X-APPLE-RADIUS=500;X-TITLE=Hwy 12:geo:-64.457645,44.731369
END:VEVENT
BEGIN:VEVENT
DTSTART;TZID=America/Halifax:20241203T100000
DTEND;TZID=America/Halifax:20241203T113000
DTSTAMP:20260419T100225
CREATED:20240901T163647Z
LAST-MODIFIED:20241205T170844Z
UID:10013251-1733220000-1733225400@newross.ca
SUMMARY:Playgroup
DESCRIPTION:For families with children from birth to age\n5. Includes free play\, art activities\, reading\,\nmusic\, a healthy snack\, and an\nopportunity for the adults to connect.\nStarting back on Tuesday\, September 10th
URL:https://newross.ca/event/playgroup-7/2024-12-03/
LOCATION:New Ross Family Resource Centre\, Hwy 12\, New Ross\, Nova Scotia\, B0J 2M0\, Canada
GEO:44.731369;-64.457645
X-APPLE-STRUCTURED-LOCATION;VALUE=URI;X-ADDRESS=New Ross Family Resource Centre Hwy 12 New Ross Nova Scotia B0J 2M0 Canada;X-APPLE-RADIUS=500;X-TITLE=Hwy 12:geo:-64.457645,44.731369
END:VEVENT
BEGIN:VEVENT
DTSTART;TZID=America/Halifax:20241108T143000
DTEND;TZID=America/Halifax:20241108T170000
DTSTAMP:20260419T100225
CREATED:20240903T144130Z
LAST-MODIFIED:20240903T144130Z
UID:10013263-1731076200-1731085200@newross.ca
SUMMARY:Dance Class
DESCRIPTION:Miss Brooklyn is back for the autumn\nseason of dance classes! This 12-week\nprogram has been fine tuned for New Ross\nand Miss Brooklyn is now accepting kids\nas young as 3 years old! $130+tax per\ndancer\, spaces are limited! Funding\nassistance may be available through\nPROKids.\nAges 3-5 2:30-3:15\nAges 6-8 3:15-4:00\nAges 9+ 4:00-4:45
URL:https://newross.ca/event/dance-class-3/2024-11-08/
LOCATION:New Ross Family Resource Centre\, Hwy 12\, New Ross\, Nova Scotia\, B0J 2M0\, Canada
GEO:44.731369;-64.457645
X-APPLE-STRUCTURED-LOCATION;VALUE=URI;X-ADDRESS=New Ross Family Resource Centre Hwy 12 New Ross Nova Scotia B0J 2M0 Canada;X-APPLE-RADIUS=500;X-TITLE=Hwy 12:geo:-64.457645,44.731369
END:VEVENT
BEGIN:VEVENT
DTSTART;TZID=America/Halifax:20241014T133000
DTEND;TZID=America/Halifax:20241014T150000
DTSTAMP:20260419T100225
CREATED:20240901T163329Z
LAST-MODIFIED:20240901T163329Z
UID:10013238-1728912600-1728918000@newross.ca
SUMMARY:Nobody's Perfect
DESCRIPTION:Nobody’s Perfect\nMondays 1:30-3:00 starting September 9\nThis 6-week community-based program is\ndesigned to promote positive parenting.\nTogether\, with the guidance of trained\nfacilitators Lindsay and Laura\, you will\ndiscover positive ways to interact with\nyour children. Information and support\nare provided about topics such as child\ndevelopment\, safety\, and behaviour. This\nprogram is facilitated in a group setting\nthat is welcoming\, safe\, and inclusive.\nNRFRClaura@gmail.com\n(902) 689-2414
URL:https://newross.ca/event/nobodys-perfect-2/2024-10-14/
LOCATION:New Ross Family Resource Centre\, Hwy 12\, New Ross\, Nova Scotia\, B0J 2M0\, Canada
GEO:44.731369;-64.457645
X-APPLE-STRUCTURED-LOCATION;VALUE=URI;X-ADDRESS=New Ross Family Resource Centre Hwy 12 New Ross Nova Scotia B0J 2M0 Canada;X-APPLE-RADIUS=500;X-TITLE=Hwy 12:geo:-64.457645,44.731369
END:VEVENT
BEGIN:VEVENT
DTSTART;TZID=America/Halifax:20240829T080000
DTEND;TZID=America/Halifax:20240829T100000
DTSTAMP:20260419T100225
CREATED:20240505T170219Z
LAST-MODIFIED:20240901T162726Z
UID:10012789-1724918400-1724925600@newross.ca
SUMMARY:Blood Collection
DESCRIPTION:ON SITE BLOOD COLLECTION every second THURSDAY. \nYou must call Colleen Hull at 624-0406 to book your appointment! \nBLOOD COLLECTION FEE $15 For in Centre Collection. \nUpcoming Dates: May 9th & 23rd June 6th & June 20th July 4th & 18th \nThese dates are subject to change pending weather conditions or lack of appointments. If you have an appointment and the clinic is cancelled\, you will be notified by Colleen and it will be posted on the Resource Centre Facebook page.
URL:https://newross.ca/event/blood-collection-52/2024-08-29/
LOCATION:New Ross Family Resource Centre\, Hwy 12\, New Ross\, Nova Scotia\, B0J 2M0\, Canada
GEO:44.731369;-64.457645
X-APPLE-STRUCTURED-LOCATION;VALUE=URI;X-ADDRESS=New Ross Family Resource Centre Hwy 12 New Ross Nova Scotia B0J 2M0 Canada;X-APPLE-RADIUS=500;X-TITLE=Hwy 12:geo:-64.457645,44.731369
END:VEVENT
BEGIN:VEVENT
DTSTART;TZID=America/Halifax:20240827T190000
DTEND;TZID=America/Halifax:20240827T210000
DTSTAMP:20260419T100225
CREATED:20240715T180143Z
LAST-MODIFIED:20240903T151613Z
UID:10013190-1724785200-1724792400@newross.ca
SUMMARY:Craft Circle
DESCRIPTION:
URL:https://newross.ca/event/craft-circle/2024-08-27/
LOCATION:New Ross Family Resource Centre\, Hwy 12\, New Ross\, Nova Scotia\, B0J 2M0\, Canada
GEO:44.731369;-64.457645
X-APPLE-STRUCTURED-LOCATION;VALUE=URI;X-ADDRESS=New Ross Family Resource Centre Hwy 12 New Ross Nova Scotia B0J 2M0 Canada;X-APPLE-RADIUS=500;X-TITLE=Hwy 12:geo:-64.457645,44.731369
END:VEVENT
BEGIN:VEVENT
DTSTART;TZID=America/Halifax:20240821T183000
DTEND;TZID=America/Halifax:20240821T200000
DTSTAMP:20260419T100225
CREATED:20240715T172809Z
LAST-MODIFIED:20240715T173043Z
UID:10013027-1724265000-1724270400@newross.ca
SUMMARY:Yoga with Mona
DESCRIPTION:
URL:https://newross.ca/event/yoga-with-mona-6/2024-08-21/
LOCATION:New Ross Family Resource Centre\, Hwy 12\, New Ross\, Nova Scotia\, B0J 2M0\, Canada
GEO:44.731369;-64.457645
X-APPLE-STRUCTURED-LOCATION;VALUE=URI;X-ADDRESS=New Ross Family Resource Centre Hwy 12 New Ross Nova Scotia B0J 2M0 Canada;X-APPLE-RADIUS=500;X-TITLE=Hwy 12:geo:-64.457645,44.731369
END:VEVENT
END:VCALENDAR