BEGIN:VCALENDAR
VERSION:2.0
PRODID:-//The Community of New Ross - ECPv6.15.20//NONSGML v1.0//EN
CALSCALE:GREGORIAN
METHOD:PUBLISH
X-WR-CALNAME:The Community of New Ross
X-ORIGINAL-URL:https://newross.ca
X-WR-CALDESC:Events for The Community of New Ross
REFRESH-INTERVAL;VALUE=DURATION:PT1H
X-Robots-Tag:noindex
X-PUBLISHED-TTL:PT1H
BEGIN:VTIMEZONE
TZID:America/Halifax
BEGIN:DAYLIGHT
TZOFFSETFROM:-0400
TZOFFSETTO:-0300
TZNAME:ADT
DTSTART:20230312T060000
END:DAYLIGHT
BEGIN:STANDARD
TZOFFSETFROM:-0300
TZOFFSETTO:-0400
TZNAME:AST
DTSTART:20231105T050000
END:STANDARD
BEGIN:DAYLIGHT
TZOFFSETFROM:-0400
TZOFFSETTO:-0300
TZNAME:ADT
DTSTART:20240310T060000
END:DAYLIGHT
BEGIN:STANDARD
TZOFFSETFROM:-0300
TZOFFSETTO:-0400
TZNAME:AST
DTSTART:20241103T050000
END:STANDARD
BEGIN:DAYLIGHT
TZOFFSETFROM:-0400
TZOFFSETTO:-0300
TZNAME:ADT
DTSTART:20250309T060000
END:DAYLIGHT
BEGIN:STANDARD
TZOFFSETFROM:-0300
TZOFFSETTO:-0400
TZNAME:AST
DTSTART:20251102T050000
END:STANDARD
END:VTIMEZONE
BEGIN:VEVENT
DTSTART;TZID=America/Halifax:20240815T073000
DTEND;TZID=America/Halifax:20240815T180000
DTSTAMP:20260419T151722
CREATED:20240715T173430Z
LAST-MODIFIED:20240715T173430Z
UID:10013161-1723707000-1723744800@newross.ca
SUMMARY:Summer Childcare
DESCRIPTION:
URL:https://newross.ca/event/summer-childcare/2024-08-15/
LOCATION:New Ross Family Resource Centre\, Hwy 12\, New Ross\, Nova Scotia\, B0J 2M0\, Canada
GEO:44.731369;-64.457645
X-APPLE-STRUCTURED-LOCATION;VALUE=URI;X-ADDRESS=New Ross Family Resource Centre Hwy 12 New Ross Nova Scotia B0J 2M0 Canada;X-APPLE-RADIUS=500;X-TITLE=Hwy 12:geo:-64.457645,44.731369
END:VEVENT
BEGIN:VEVENT
DTSTART;TZID=America/Halifax:20240715T130000
DTEND;TZID=America/Halifax:20240715T160000
DTSTAMP:20260419T151722
CREATED:20240715T175230Z
LAST-MODIFIED:20240715T175230Z
UID:10013181-1721048400-1721059200@newross.ca
SUMMARY:Help from Mona
DESCRIPTION:
URL:https://newross.ca/event/help-from-mona/
LOCATION:New Ross Family Resource Centre\, Hwy 12\, New Ross\, Nova Scotia\, B0J 2M0\, Canada
GEO:44.731369;-64.457645
X-APPLE-STRUCTURED-LOCATION;VALUE=URI;X-ADDRESS=New Ross Family Resource Centre Hwy 12 New Ross Nova Scotia B0J 2M0 Canada;X-APPLE-RADIUS=500;X-TITLE=Hwy 12:geo:-64.457645,44.731369
END:VEVENT
BEGIN:VEVENT
DTSTART;TZID=America/Halifax:20240710T183000
DTEND;TZID=America/Halifax:20240710T200000
DTSTAMP:20260419T151722
CREATED:20240209T172504Z
LAST-MODIFIED:20240715T172218Z
UID:10012682-1720636200-1720641600@newross.ca
SUMMARY:Yoga_with Mona
DESCRIPTION:Yoga with Mona: $120 per 10-week session. Yoga with Mona has been so popular that\nwe are booking a second evening! The next rounds of yoga will start March 26th for\nBeginner Yoga and March 27th for Experienced Yoga. Start dates may be pushed a week or\ntwo to accommodate any closure days over the winter. Both class times are 6:30-7:45. Call\n902-689-2414 or email NRFRCJanice@gmail.com to register.
URL:https://newross.ca/event/yoga_with-mona-2/2024-07-10/
LOCATION:New Ross Family Resource Centre\, Hwy 12\, New Ross\, Nova Scotia\, B0J 2M0\, Canada
GEO:44.731369;-64.457645
X-APPLE-STRUCTURED-LOCATION;VALUE=URI;X-ADDRESS=New Ross Family Resource Centre Hwy 12 New Ross Nova Scotia B0J 2M0 Canada;X-APPLE-RADIUS=500;X-TITLE=Hwy 12:geo:-64.457645,44.731369
END:VEVENT
BEGIN:VEVENT
DTSTART;TZID=America/Halifax:20240628T143000
DTEND;TZID=America/Halifax:20240628T180000
DTSTAMP:20260419T151722
CREATED:20230801T163937Z
LAST-MODIFIED:20231212T151518Z
UID:10012402-1719585000-1719597600@newross.ca
SUMMARY:NR Afterschool Program
DESCRIPTION:New Ross After School Program: Monday – Friday\, 2:25 – 6:00pm\, throughout the school year. Contact Janice at 902-277-1823 or nrfrcjanice@gmail.com for more information and availability. 
URL:https://newross.ca/event/nr-afterschool-program-2/2024-06-28/
LOCATION:New Ross Family Resource Centre\, Hwy 12\, New Ross\, Nova Scotia\, B0J 2M0\, Canada
GEO:44.731369;-64.457645
X-APPLE-STRUCTURED-LOCATION;VALUE=URI;X-ADDRESS=New Ross Family Resource Centre Hwy 12 New Ross Nova Scotia B0J 2M0 Canada;X-APPLE-RADIUS=500;X-TITLE=Hwy 12:geo:-64.457645,44.731369
END:VEVENT
BEGIN:VEVENT
DTSTART;TZID=America/Halifax:20240625T120000
DTEND;TZID=America/Halifax:20240625T133000
DTSTAMP:20260419T151722
CREATED:20240505T180423Z
LAST-MODIFIED:20240505T180423Z
UID:10012855-1719316800-1719322200@newross.ca
SUMMARY:Coping Group
DESCRIPTION:
URL:https://newross.ca/event/coping-group/2024-06-25/
LOCATION:New Ross Family Resource Centre\, Hwy 12\, New Ross\, Nova Scotia\, B0J 2M0\, Canada
GEO:44.731369;-64.457645
X-APPLE-STRUCTURED-LOCATION;VALUE=URI;X-ADDRESS=New Ross Family Resource Centre Hwy 12 New Ross Nova Scotia B0J 2M0 Canada;X-APPLE-RADIUS=500;X-TITLE=Hwy 12:geo:-64.457645,44.731369
END:VEVENT
BEGIN:VEVENT
DTSTART;TZID=America/Halifax:20240625T100000
DTEND;TZID=America/Halifax:20240625T113000
DTSTAMP:20260419T151722
CREATED:20230912T161744Z
LAST-MODIFIED:20231212T150941Z
UID:10012244-1719309600-1719315000@newross.ca
SUMMARY:Playgroup
DESCRIPTION:Playgroup: Every Tuesday 10am – 11:30am when there is school. For families with children\,\nbirth to age 5. Includes free play\, art activities\, reading\, music\, a healthy snack and an\nopportunity for the adults to connect.
URL:https://newross.ca/event/playgroup-6-2/2024-06-25/
LOCATION:New Ross Family Resource Centre\, Hwy 12\, New Ross\, Nova Scotia\, B0J 2M0\, Canada
GEO:44.731369;-64.457645
X-APPLE-STRUCTURED-LOCATION;VALUE=URI;X-ADDRESS=New Ross Family Resource Centre Hwy 12 New Ross Nova Scotia B0J 2M0 Canada;X-APPLE-RADIUS=500;X-TITLE=Hwy 12:geo:-64.457645,44.731369
END:VEVENT
BEGIN:VEVENT
DTSTART;TZID=America/Halifax:20240624T130000
DTEND;TZID=America/Halifax:20240624T160000
DTSTAMP:20260419T151722
CREATED:20240614T134715Z
LAST-MODIFIED:20240614T134715Z
UID:10012882-1719234000-1719244800@newross.ca
SUMMARY:Financial Services with Mona
DESCRIPTION:
URL:https://newross.ca/event/financial-services-with-mona-3/2024-06-24/
LOCATION:New Ross Family Resource Centre\, Hwy 12\, New Ross\, Nova Scotia\, B0J 2M0\, Canada
GEO:44.731369;-64.457645
X-APPLE-STRUCTURED-LOCATION;VALUE=URI;X-ADDRESS=New Ross Family Resource Centre Hwy 12 New Ross Nova Scotia B0J 2M0 Canada;X-APPLE-RADIUS=500;X-TITLE=Hwy 12:geo:-64.457645,44.731369
END:VEVENT
BEGIN:VEVENT
DTSTART;TZID=America/Halifax:20240620T080000
DTEND;TZID=America/Halifax:20240620T170000
DTSTAMP:20260419T151722
CREATED:20240614T133839Z
LAST-MODIFIED:20240614T133839Z
UID:10012880-1718870400-1718902800@newross.ca
SUMMARY:Produce Box Program
DESCRIPTION:
URL:https://newross.ca/event/produce-box-program-2/2024-06-20/
LOCATION:New Ross Family Resource Centre\, Hwy 12\, New Ross\, Nova Scotia\, B0J 2M0\, Canada
GEO:44.731369;-64.457645
X-APPLE-STRUCTURED-LOCATION;VALUE=URI;X-ADDRESS=New Ross Family Resource Centre Hwy 12 New Ross Nova Scotia B0J 2M0 Canada;X-APPLE-RADIUS=500;X-TITLE=Hwy 12:geo:-64.457645,44.731369
END:VEVENT
BEGIN:VEVENT
DTSTART;TZID=America/Halifax:20240613T150000
DTEND;TZID=America/Halifax:20240613T200000
DTSTAMP:20260419T151722
CREATED:20240614T142951Z
LAST-MODIFIED:20240614T142951Z
UID:10013014-1718290800-1718308800@newross.ca
SUMMARY:Arts & Culture Strategy Session
DESCRIPTION:What could the Arts & Culture Sector be in our Municipality of Chester?\nGo to https://www.engagechester.ca/arts-culture-strategy to follow our project\, complete our\nonline survey\, and plan to join us at one of our in-person engagement sessions or virtual\nsessions over Zoom next month. Links for the virtual sessions can be found on our project\npage.\nAny questions contact: Ashley Marlin\nCommunity Economic Development Officer\namarlin@chester.ca\n902-277-1571
URL:https://newross.ca/event/arts-culture-strategy-session/
LOCATION:New Ross Family Resource Centre\, Hwy 12\, New Ross\, Nova Scotia\, B0J 2M0\, Canada
GEO:44.731369;-64.457645
X-APPLE-STRUCTURED-LOCATION;VALUE=URI;X-ADDRESS=New Ross Family Resource Centre Hwy 12 New Ross Nova Scotia B0J 2M0 Canada;X-APPLE-RADIUS=500;X-TITLE=Hwy 12:geo:-64.457645,44.731369
END:VEVENT
BEGIN:VEVENT
DTSTART;TZID=America/Halifax:20240611T133000
DTEND;TZID=America/Halifax:20240611T150000
DTSTAMP:20260419T151722
CREATED:20240505T170754Z
LAST-MODIFIED:20240505T170754Z
UID:10012819-1718112600-1718118000@newross.ca
SUMMARY:Self Regulation
DESCRIPTION:
URL:https://newross.ca/event/self-regulation/2024-06-11/
LOCATION:New Ross Family Resource Centre\, Hwy 12\, New Ross\, Nova Scotia\, B0J 2M0\, Canada
GEO:44.731369;-64.457645
X-APPLE-STRUCTURED-LOCATION;VALUE=URI;X-ADDRESS=New Ross Family Resource Centre Hwy 12 New Ross Nova Scotia B0J 2M0 Canada;X-APPLE-RADIUS=500;X-TITLE=Hwy 12:geo:-64.457645,44.731369
END:VEVENT
BEGIN:VEVENT
DTSTART;TZID=America/Halifax:20240611T080000
DTEND;TZID=America/Halifax:20240611T170000
DTSTAMP:20260419T151722
CREATED:20240614T133539Z
LAST-MODIFIED:20240614T133539Z
UID:10012878-1718092800-1718125200@newross.ca
SUMMARY:Family Food Box Program
DESCRIPTION:
URL:https://newross.ca/event/family-food-box-program/2024-06-11/
LOCATION:New Ross Family Resource Centre\, Hwy 12\, New Ross\, Nova Scotia\, B0J 2M0\, Canada
GEO:44.731369;-64.457645
X-APPLE-STRUCTURED-LOCATION;VALUE=URI;X-ADDRESS=New Ross Family Resource Centre Hwy 12 New Ross Nova Scotia B0J 2M0 Canada;X-APPLE-RADIUS=500;X-TITLE=Hwy 12:geo:-64.457645,44.731369
END:VEVENT
BEGIN:VEVENT
DTSTART;TZID=America/Halifax:20240610T133000
DTEND;TZID=America/Halifax:20240610T150000
DTSTAMP:20260419T151722
CREATED:20240505T171314Z
LAST-MODIFIED:20240505T171359Z
UID:10012825-1718026200-1718031600@newross.ca
SUMMARY:Nobody's Perfect
DESCRIPTION:
URL:https://newross.ca/event/nobodys-perfect/2024-06-10/
LOCATION:New Ross Family Resource Centre\, Hwy 12\, New Ross\, Nova Scotia\, B0J 2M0\, Canada
GEO:44.731369;-64.457645
X-APPLE-STRUCTURED-LOCATION;VALUE=URI;X-ADDRESS=New Ross Family Resource Centre Hwy 12 New Ross Nova Scotia B0J 2M0 Canada;X-APPLE-RADIUS=500;X-TITLE=Hwy 12:geo:-64.457645,44.731369
END:VEVENT
BEGIN:VEVENT
DTSTART;TZID=America/Halifax:20240605T090000
DTEND;TZID=America/Halifax:20240605T160000
DTSTAMP:20260419T151722
CREATED:20240505T171707Z
LAST-MODIFIED:20240614T134014Z
UID:10012834-1717578000-1717603200@newross.ca
SUMMARY:Food Box Program
DESCRIPTION:
URL:https://newross.ca/event/food-box-program/2024-06-05/
LOCATION:New Ross Family Resource Centre\, Hwy 12\, New Ross\, Nova Scotia\, B0J 2M0\, Canada
GEO:44.731369;-64.457645
X-APPLE-STRUCTURED-LOCATION;VALUE=URI;X-ADDRESS=New Ross Family Resource Centre Hwy 12 New Ross Nova Scotia B0J 2M0 Canada;X-APPLE-RADIUS=500;X-TITLE=Hwy 12:geo:-64.457645,44.731369
END:VEVENT
BEGIN:VEVENT
DTSTART;TZID=America/Halifax:20240528T183000
DTEND;TZID=America/Halifax:20240528T200000
DTSTAMP:20260419T151722
CREATED:20240209T172217Z
LAST-MODIFIED:20240209T172306Z
UID:10012666-1716921000-1716926400@newross.ca
SUMMARY:Yoga_with Mona
DESCRIPTION:Yoga with Mona: $120 per 10-week session. Yoga with Mona has been so popular that\nwe are booking a second evening! The next rounds of yoga will start March 26th for\nBeginner Yoga and March 27th for Experienced Yoga. Start dates may be pushed a week or\ntwo to accommodate any closure days over the winter. Both class times are 6:30-7:45. Call\n902-689-2414 or email NRFRCJanice@gmail.com to register.
URL:https://newross.ca/event/yoga_with-mona/2024-05-28/
LOCATION:New Ross Family Resource Centre\, Hwy 12\, New Ross\, Nova Scotia\, B0J 2M0\, Canada
GEO:44.731369;-64.457645
X-APPLE-STRUCTURED-LOCATION;VALUE=URI;X-ADDRESS=New Ross Family Resource Centre Hwy 12 New Ross Nova Scotia B0J 2M0 Canada;X-APPLE-RADIUS=500;X-TITLE=Hwy 12:geo:-64.457645,44.731369
END:VEVENT
BEGIN:VEVENT
DTSTART;TZID=America/Halifax:20240527T183000
DTEND;TZID=America/Halifax:20240527T200000
DTSTAMP:20260419T151722
CREATED:20240505T175907Z
LAST-MODIFIED:20240505T175907Z
UID:10012849-1716834600-1716840000@newross.ca
SUMMARY:Girl on Fire
DESCRIPTION:
URL:https://newross.ca/event/girl-on-fire/
LOCATION:New Ross Family Resource Centre\, Hwy 12\, New Ross\, Nova Scotia\, B0J 2M0\, Canada
GEO:44.731369;-64.457645
X-APPLE-STRUCTURED-LOCATION;VALUE=URI;X-ADDRESS=New Ross Family Resource Centre Hwy 12 New Ross Nova Scotia B0J 2M0 Canada;X-APPLE-RADIUS=500;X-TITLE=Hwy 12:geo:-64.457645,44.731369
END:VEVENT
BEGIN:VEVENT
DTSTART;TZID=America/Halifax:20240527T130000
DTEND;TZID=America/Halifax:20240527T160000
DTSTAMP:20260419T151722
CREATED:20240505T175650Z
LAST-MODIFIED:20240505T175650Z
UID:10012848-1716814800-1716825600@newross.ca
SUMMARY:Financial Services with Mona
DESCRIPTION:Mona can help with any grant applications\, photocopying\, etc
URL:https://newross.ca/event/financial-services-with-mona-2/2024-05-27/
LOCATION:New Ross Family Resource Centre\, Hwy 12\, New Ross\, Nova Scotia\, B0J 2M0\, Canada
GEO:44.731369;-64.457645
X-APPLE-STRUCTURED-LOCATION;VALUE=URI;X-ADDRESS=New Ross Family Resource Centre Hwy 12 New Ross Nova Scotia B0J 2M0 Canada;X-APPLE-RADIUS=500;X-TITLE=Hwy 12:geo:-64.457645,44.731369
END:VEVENT
BEGIN:VEVENT
DTSTART;TZID=America/Halifax:20240506T100000
DTEND;TZID=America/Halifax:20240506T113000
DTSTAMP:20260419T151722
CREATED:20240505T172154Z
LAST-MODIFIED:20240505T172154Z
UID:10012838-1714989600-1714995000@newross.ca
SUMMARY:RISE_Goal Setting
DESCRIPTION:
URL:https://newross.ca/event/rise_goal-setting/
LOCATION:New Ross Family Resource Centre\, Hwy 12\, New Ross\, Nova Scotia\, B0J 2M0\, Canada
GEO:44.731369;-64.457645
X-APPLE-STRUCTURED-LOCATION;VALUE=URI;X-ADDRESS=New Ross Family Resource Centre Hwy 12 New Ross Nova Scotia B0J 2M0 Canada;X-APPLE-RADIUS=500;X-TITLE=Hwy 12:geo:-64.457645,44.731369
END:VEVENT
BEGIN:VEVENT
DTSTART;TZID=America/Halifax:20240505T140000
DTEND;TZID=America/Halifax:20240505T160000
DTSTAMP:20260419T151722
CREATED:20240119T163624Z
LAST-MODIFIED:20240505T165731Z
UID:10012611-1714917600-1714924800@newross.ca
SUMMARY:Arm Wrestling
DESCRIPTION:NEW ROSS WRIST ROLLERS \nJoin the Wrist Rollers every Sunday in January from 2-4 upstairs in the New Ross Family Resource Centre. There will be a youth arm wrestling tournament January 20th in Dartmouth for any youth interested.  Everyone is welcome to attend a practice! \nFree! All Ages Welcome!
URL:https://newross.ca/event/arm-wrestling-6/2024-05-05/
LOCATION:New Ross Family Resource Centre\, Hwy 12\, New Ross\, Nova Scotia\, B0J 2M0\, Canada
GEO:44.731369;-64.457645
X-APPLE-STRUCTURED-LOCATION;VALUE=URI;X-ADDRESS=New Ross Family Resource Centre Hwy 12 New Ross Nova Scotia B0J 2M0 Canada;X-APPLE-RADIUS=500;X-TITLE=Hwy 12:geo:-64.457645,44.731369
END:VEVENT
BEGIN:VEVENT
DTSTART;TZID=America/Halifax:20240429T130000
DTEND;TZID=America/Halifax:20240429T160000
DTSTAMP:20260419T151722
CREATED:20240411T155029Z
LAST-MODIFIED:20240411T155029Z
UID:10012758-1714395600-1714406400@newross.ca
SUMMARY:Financial Services with Mona
DESCRIPTION:Mona’s April Hours:    Monday April 8th 1-4 \nMonday April 29th 1-4 \nFree Income Tax Clinic-Resource Centre \nDates:   Tuesday April 16th & 23rd 12-4pm \n* Please call 689-2414 to set up an appointment time with Mona. \n* Income Tax information can be dropped off in advance to the \n \n 
URL:https://newross.ca/event/financial-services-with-mona/2024-04-29/
LOCATION:New Ross Family Resource Centre\, Hwy 12\, New Ross\, Nova Scotia\, B0J 2M0\, Canada
GEO:44.731369;-64.457645
X-APPLE-STRUCTURED-LOCATION;VALUE=URI;X-ADDRESS=New Ross Family Resource Centre Hwy 12 New Ross Nova Scotia B0J 2M0 Canada;X-APPLE-RADIUS=500;X-TITLE=Hwy 12:geo:-64.457645,44.731369
END:VEVENT
BEGIN:VEVENT
DTSTART;TZID=America/Halifax:20240425T100000
DTEND;TZID=America/Halifax:20240425T150000
DTSTAMP:20260419T151722
CREATED:20230202T180706Z
LAST-MODIFIED:20230202T180706Z
UID:10010937-1714039200-1714057200@newross.ca
SUMMARY:Counseling for Women
DESCRIPTION:Free Counseling for Women in New Ross \n                 Information from Nicole Robson about her counselling services:   \nMy name is Nicole Robson and I am the Outreach Coordinator at Second Story Women’s Centre.  I am happy to say that due to the support of the New Ross Family Resource Centre I will be able to offer some one-on-one counselling support every two weeks in New Ross.  Second Story offers support through a trauma informed approach\, and I have worked with people dealing with anxiety\, depression\, trauma\, and grief and loss. I like to work from a strength-based approach\, and use tools such as mindfulness\, and grounding techniques. \nIf you have any questions or would like to schedule an appointment\, please call: 902-541-0343
URL:https://newross.ca/event/counseling-for-women-3/2024-04-25/
LOCATION:New Ross Family Resource Centre\, Hwy 12\, New Ross\, Nova Scotia\, B0J 2M0\, Canada
CATEGORIES:Featured
GEO:44.731369;-64.457645
X-APPLE-STRUCTURED-LOCATION;VALUE=URI;X-ADDRESS=New Ross Family Resource Centre Hwy 12 New Ross Nova Scotia B0J 2M0 Canada;X-APPLE-RADIUS=500;X-TITLE=Hwy 12:geo:-64.457645,44.731369
END:VEVENT
BEGIN:VEVENT
DTSTART;VALUE=DATE:20240423
DTEND;VALUE=DATE:20240424
DTSTAMP:20260419T151722
CREATED:20240209T171202Z
LAST-MODIFIED:20240209T171202Z
UID:10012649-1713830400-1713916799@newross.ca
SUMMARY:AMPed Up
DESCRIPTION:Self-Regulation Program: This 6-week program used the\nAMPed Up! Anger Management Program Guidelines for parents that emphasizes\nunderstanding emotions\, enhancing communication\, and stress management skills. You\nwill gain the ability to better regulate your emotions and productively manage your\nfeelings. In-person or virtual. Time will be decided among those who register. Call 902-\n689-2414 or email NRFRCJanice@gmail.com to register.
URL:https://newross.ca/event/amped-up-2/2024-04-23/
LOCATION:New Ross Family Resource Centre\, Hwy 12\, New Ross\, Nova Scotia\, B0J 2M0\, Canada
GEO:44.731369;-64.457645
X-APPLE-STRUCTURED-LOCATION;VALUE=URI;X-ADDRESS=New Ross Family Resource Centre Hwy 12 New Ross Nova Scotia B0J 2M0 Canada;X-APPLE-RADIUS=500;X-TITLE=Hwy 12:geo:-64.457645,44.731369
END:VEVENT
BEGIN:VEVENT
DTSTART;TZID=America/Halifax:20240329T143000
DTEND;TZID=America/Halifax:20240329T173000
DTSTAMP:20260419T151722
CREATED:20240119T161920Z
LAST-MODIFIED:20240119T161920Z
UID:10012584-1711722600-1711733400@newross.ca
SUMMARY:Combo Dance Class
DESCRIPTION:Combo Dance Classes: $130+tax. $65+tax.* Miss Brooklyn from Fire in Motion Dance Company is returning to New Ross every Friday from 2:30-5:30 to teach dance! She will have two dance styles in each 12-week session. Contact Brooklyn at fmdancecompany@gmail.com or Lindsay at NRFRCDirector@gmail.com to register. To apply for ProKids please visit www.chester.ca/prokids \n            Ages 4-6 Combo Class – 2:30-3:30 pm \nAges 7-8 Combo Class – 3:30-4:30 pm \nAges 9+ Combo Class – 4:30- 5:30 pm \n  \n* Thanks to a Recreation Grant from the Municipality of Chester we can offer half-priced dance this session!
URL:https://newross.ca/event/combo-dance-class-2/2024-03-29/
LOCATION:New Ross Family Resource Centre\, Hwy 12\, New Ross\, Nova Scotia\, B0J 2M0\, Canada
GEO:44.731369;-64.457645
X-APPLE-STRUCTURED-LOCATION;VALUE=URI;X-ADDRESS=New Ross Family Resource Centre Hwy 12 New Ross Nova Scotia B0J 2M0 Canada;X-APPLE-RADIUS=500;X-TITLE=Hwy 12:geo:-64.457645,44.731369
END:VEVENT
BEGIN:VEVENT
DTSTART;TZID=America/Halifax:20240328T080000
DTEND;TZID=America/Halifax:20240328T090000
DTSTAMP:20260419T151722
CREATED:20230608T151820Z
LAST-MODIFIED:20240118T185314Z
UID:10012477-1711612800-1711616400@newross.ca
SUMMARY:Blood Collection
DESCRIPTION:ON SITE BLOOD COLLECTION every second THURSDAY. \nYou must call Colleen Hull at 624-0406 to book your appointment! \nBLOOD COLLECTION FEE $15 For in Centre Collection. \n 
URL:https://newross.ca/event/blood-collection-51/2024-03-28/
LOCATION:New Ross Family Resource Centre\, Hwy 12\, New Ross\, Nova Scotia\, B0J 2M0\, Canada
CATEGORIES:Featured
GEO:44.731369;-64.457645
X-APPLE-STRUCTURED-LOCATION;VALUE=URI;X-ADDRESS=New Ross Family Resource Centre Hwy 12 New Ross Nova Scotia B0J 2M0 Canada;X-APPLE-RADIUS=500;X-TITLE=Hwy 12:geo:-64.457645,44.731369
END:VEVENT
BEGIN:VEVENT
DTSTART;TZID=America/Halifax:20240326T133000
DTEND;TZID=America/Halifax:20240326T150000
DTSTAMP:20260419T151722
CREATED:20240209T171549Z
LAST-MODIFIED:20240209T171549Z
UID:10012655-1711459800-1711465200@newross.ca
SUMMARY:Nobody's Perfect Parenting Program
DESCRIPTION:Nobody’s Perfect Parenting Program: Tuesdays 1:30-3:00 pm starting February 20th.\nThis six-week program is community-based for parents and designed to promote positive\nparenting. Together\, with the guidance of trained facilitators\, you will discover positive\nways to interact with your children. Information and support are provided about topics\nsuch as child development\, safety\, and behaviour. It is facilitated in a group setting that is\nwelcoming\, safe\, and inclusive. Call 902-689-2414 or email NRFRClaura@gmail.com to\nregister. The form for registration can also be found on our Facebook Page!
URL:https://newross.ca/event/nobodys-perfect-parenting-program/2024-03-26/
LOCATION:New Ross Family Resource Centre\, Hwy 12\, New Ross\, Nova Scotia\, B0J 2M0\, Canada
GEO:44.731369;-64.457645
X-APPLE-STRUCTURED-LOCATION;VALUE=URI;X-ADDRESS=New Ross Family Resource Centre Hwy 12 New Ross Nova Scotia B0J 2M0 Canada;X-APPLE-RADIUS=500;X-TITLE=Hwy 12:geo:-64.457645,44.731369
END:VEVENT
BEGIN:VEVENT
DTSTART;TZID=America/Halifax:20240313T183000
DTEND;TZID=America/Halifax:20240313T200000
DTSTAMP:20260419T151722
CREATED:20231212T152046Z
LAST-MODIFIED:20231212T152046Z
UID:10012422-1710354600-1710360000@newross.ca
SUMMARY:Yoga with Mona
DESCRIPTION:Yoga with Mona: $120 per 10-week session. Yoga with Mona has been so popular\nthat we are booking a second evening! Beginner Yoga will start on Tuesday\, January 9th and Experienced Yoga will begin on Wednesday\, January 10th. Both class times\nare 6:30-7:45. Call 902-689-2414 or email NRFRCJanice@gmail.com to register.
URL:https://newross.ca/event/yoga-with-mona-5/2024-03-13/
LOCATION:New Ross Family Resource Centre\, Hwy 12\, New Ross\, Nova Scotia\, B0J 2M0\, Canada
GEO:44.731369;-64.457645
X-APPLE-STRUCTURED-LOCATION;VALUE=URI;X-ADDRESS=New Ross Family Resource Centre Hwy 12 New Ross Nova Scotia B0J 2M0 Canada;X-APPLE-RADIUS=500;X-TITLE=Hwy 12:geo:-64.457645,44.731369
END:VEVENT
BEGIN:VEVENT
DTSTART;TZID=America/Halifax:20240312T183000
DTEND;TZID=America/Halifax:20240312T200000
DTSTAMP:20260419T151722
CREATED:20231212T151859Z
LAST-MODIFIED:20231212T151859Z
UID:10012412-1710268200-1710273600@newross.ca
SUMMARY:Yoga with Mona
DESCRIPTION:Yoga with Mona: $120 per 10-week session. Yoga with Mona has been so popular\nthat we are booking a second evening! Beginner Yoga will start on Tuesday\, January 9th and Experienced Yoga will begin on Wednesday\, January 10th. Both class times\nare 6:30-7:45. Call 902-689-2414 or email NRFRCJanice@gmail.com to register.
URL:https://newross.ca/event/yoga-with-mona-4/2024-03-12/
LOCATION:New Ross Family Resource Centre\, Hwy 12\, New Ross\, Nova Scotia\, B0J 2M0\, Canada
GEO:44.731369;-64.457645
X-APPLE-STRUCTURED-LOCATION;VALUE=URI;X-ADDRESS=New Ross Family Resource Centre Hwy 12 New Ross Nova Scotia B0J 2M0 Canada;X-APPLE-RADIUS=500;X-TITLE=Hwy 12:geo:-64.457645,44.731369
END:VEVENT
BEGIN:VEVENT
DTSTART;TZID=America/Halifax:20240304T100000
DTEND;TZID=America/Halifax:20240304T113000
DTSTAMP:20260419T151722
CREATED:20240209T171737Z
LAST-MODIFIED:20240209T172045Z
UID:10012656-1709546400-1709551800@newross.ca
SUMMARY:RISE_Accountability Group
DESCRIPTION:RISE | Accountability Group: New Year\, New You? This is the time of year when many of\nus set New Year’s Resolutions for ourselves. Do you find yourself setting goals and\nstruggling to follow through with them? Join us on March 4th from 10-11:30 am for a RISE\n(Refresh\, Inspire\, Support\, Empower) info session where you learn how to create SMART\ngoals\, set yourself up for success\, and common things that may hold you back (and how\nto keep going!) Following the info session will be optional weekly get-togethers and an\nongoing virtual chat to encourage and uplift each other on our respective journeys! Call\n902-689-2414 or email NRFRCdirector@gmail.com to register!
URL:https://newross.ca/event/rise_accountability-group/
LOCATION:New Ross Family Resource Centre\, Hwy 12\, New Ross\, Nova Scotia\, B0J 2M0\, Canada
GEO:44.731369;-64.457645
X-APPLE-STRUCTURED-LOCATION;VALUE=URI;X-ADDRESS=New Ross Family Resource Centre Hwy 12 New Ross Nova Scotia B0J 2M0 Canada;X-APPLE-RADIUS=500;X-TITLE=Hwy 12:geo:-64.457645,44.731369
END:VEVENT
BEGIN:VEVENT
DTSTART;TZID=America/Halifax:20240229T153000
DTEND;TZID=America/Halifax:20240229T170000
DTSTAMP:20260419T151722
CREATED:20240119T162340Z
LAST-MODIFIED:20240119T162340Z
UID:10012589-1709220600-1709226000@newross.ca
SUMMARY:Self Defence Class
DESCRIPTION:Are you interested in learning skills to protect yourself from harm? Join Mike Thursdays in February from 3:30-5 to learn basic self defence moves. Will be a continuation of the class offered fall 2023 but beginners are welcome!  Cost $80 for 4 weeks. \nPre-register now!! Financial assistance possible\, please contact the Resource Centre!
URL:https://newross.ca/event/self-defence-class/2024-02-29/
LOCATION:New Ross Family Resource Centre\, Hwy 12\, New Ross\, Nova Scotia\, B0J 2M0\, Canada
GEO:44.731369;-64.457645
X-APPLE-STRUCTURED-LOCATION;VALUE=URI;X-ADDRESS=New Ross Family Resource Centre Hwy 12 New Ross Nova Scotia B0J 2M0 Canada;X-APPLE-RADIUS=500;X-TITLE=Hwy 12:geo:-64.457645,44.731369
END:VEVENT
BEGIN:VEVENT
DTSTART;TZID=America/Halifax:20240226T130000
DTEND;TZID=America/Halifax:20240226T160000
DTSTAMP:20260419T151722
CREATED:20240209T170240Z
LAST-MODIFIED:20240209T170810Z
UID:10012642-1708952400-1708963200@newross.ca
SUMMARY:Money Matters_with Mona
DESCRIPTION:Money Matters with Mona\nMona is a resident of New Ross that has several years experience in the banking world.\nShe has become a wonderful asset to our Centre and is available to help fill out grant\nforms\, complete simple income tax returns\, and help with personal budgeting.\nMona’s Hours:\nMon Feb 5th 1-4\nMon Feb 12th 1-4\nThurs Feb 22nd 1-4\nMon Feb 26th 10-4\nFebruary 12th will be focused on Budgeting. Bring in information regarding income\nsources and monthly bills and get help setting up a budget. If that date doesn’t work\nfor you\, other dates are also options.\nHeat Pump rebates through NS gov’t deadline is March 31st\, Salvation Army Heat\nrebate – until funds run out. Also\, good time to start gathering up personal Income\ntax papers for 2023 submission (Notice of Assessment from last year and all T4’s ).\nPlease call and set up a time to chat with Mona
URL:https://newross.ca/event/money-matters_with-mona/2024-02-26/
LOCATION:New Ross Family Resource Centre\, Hwy 12\, New Ross\, Nova Scotia\, B0J 2M0\, Canada
GEO:44.731369;-64.457645
X-APPLE-STRUCTURED-LOCATION;VALUE=URI;X-ADDRESS=New Ross Family Resource Centre Hwy 12 New Ross Nova Scotia B0J 2M0 Canada;X-APPLE-RADIUS=500;X-TITLE=Hwy 12:geo:-64.457645,44.731369
END:VEVENT
BEGIN:VEVENT
DTSTART;TZID=America/Halifax:20240222T143000
DTEND;TZID=America/Halifax:20240222T153000
DTSTAMP:20260419T151722
CREATED:20240119T163412Z
LAST-MODIFIED:20240119T163412Z
UID:10012593-1708612200-1708615800@newross.ca
SUMMARY:Anti-Bullying\, Confidence\, Life Skills program
DESCRIPTION:
URL:https://newross.ca/event/anti-bullying-confidence-life-skills-program/2024-02-22/
LOCATION:New Ross Family Resource Centre\, Hwy 12\, New Ross\, Nova Scotia\, B0J 2M0\, Canada
GEO:44.731369;-64.457645
X-APPLE-STRUCTURED-LOCATION;VALUE=URI;X-ADDRESS=New Ross Family Resource Centre Hwy 12 New Ross Nova Scotia B0J 2M0 Canada;X-APPLE-RADIUS=500;X-TITLE=Hwy 12:geo:-64.457645,44.731369
END:VEVENT
END:VCALENDAR