BEGIN:VCALENDAR
VERSION:2.0
PRODID:-//The Community of New Ross - ECPv6.15.20//NONSGML v1.0//EN
CALSCALE:GREGORIAN
METHOD:PUBLISH
X-ORIGINAL-URL:https://newross.ca
X-WR-CALDESC:Events for The Community of New Ross
REFRESH-INTERVAL;VALUE=DURATION:PT1H
X-Robots-Tag:noindex
X-PUBLISHED-TTL:PT1H
BEGIN:VTIMEZONE
TZID:America/Halifax
BEGIN:DAYLIGHT
TZOFFSETFROM:-0400
TZOFFSETTO:-0300
TZNAME:ADT
DTSTART:20130310T060000
END:DAYLIGHT
BEGIN:STANDARD
TZOFFSETFROM:-0300
TZOFFSETTO:-0400
TZNAME:AST
DTSTART:20131103T050000
END:STANDARD
BEGIN:DAYLIGHT
TZOFFSETFROM:-0400
TZOFFSETTO:-0300
TZNAME:ADT
DTSTART:20140309T060000
END:DAYLIGHT
BEGIN:STANDARD
TZOFFSETFROM:-0300
TZOFFSETTO:-0400
TZNAME:AST
DTSTART:20141102T050000
END:STANDARD
BEGIN:DAYLIGHT
TZOFFSETFROM:-0400
TZOFFSETTO:-0300
TZNAME:ADT
DTSTART:20150308T060000
END:DAYLIGHT
BEGIN:STANDARD
TZOFFSETFROM:-0300
TZOFFSETTO:-0400
TZNAME:AST
DTSTART:20151101T050000
END:STANDARD
BEGIN:DAYLIGHT
TZOFFSETFROM:-0400
TZOFFSETTO:-0300
TZNAME:ADT
DTSTART:20160313T060000
END:DAYLIGHT
BEGIN:STANDARD
TZOFFSETFROM:-0300
TZOFFSETTO:-0400
TZNAME:AST
DTSTART:20161106T050000
END:STANDARD
BEGIN:DAYLIGHT
TZOFFSETFROM:-0400
TZOFFSETTO:-0300
TZNAME:ADT
DTSTART:20170312T060000
END:DAYLIGHT
BEGIN:STANDARD
TZOFFSETFROM:-0300
TZOFFSETTO:-0400
TZNAME:AST
DTSTART:20171105T050000
END:STANDARD
END:VTIMEZONE
BEGIN:VEVENT
DTSTART;TZID=America/Halifax:20160319T210000
DTEND;TZID=America/Halifax:20160319T235500
DTSTAMP:20260420T150607
CREATED:20160319T005455Z
LAST-MODIFIED:20160319T005624Z
UID:10001245-1458421200-1458431700@newross.ca
SUMMARY:50's/60's Dance
DESCRIPTION:50’s/60’s Dance at the New Ross Firehall\, Saturday March 19th\n9 pm to 1 am (Doors open at 8:45 pm) \nDoor Prizes and Spot Dances. Put your bobbie socks on and come join in the fun as we take a trip down memory lane\n \nTickets available at Barry Russell’s Service Station or at the door. \nAdmission: $7.00 (19 and over welcome)
URL:https://newross.ca/event/50s60s-dance/
LOCATION:New Ross Fire Hall\, Highway 12\, New Ross\, Nova Scotia\, Canada
CATEGORIES:Featured
GEO:44.7375511;-64.4565265
X-APPLE-STRUCTURED-LOCATION;VALUE=URI;X-ADDRESS=New Ross Fire Hall Highway 12 New Ross Nova Scotia Canada;X-APPLE-RADIUS=500;X-TITLE=Highway 12:geo:-64.4565265,44.7375511
END:VEVENT
BEGIN:VEVENT
DTSTART;TZID=America/Halifax:20151205T070000
DTEND;TZID=America/Halifax:20151205T100000
DTSTAMP:20260420T150607
CREATED:20151102T174431Z
LAST-MODIFIED:20151102T181507Z
UID:10005035-1449298800-1449309600@newross.ca
SUMMARY:Firefighters' Breakfast
DESCRIPTION:Delicious home style breakfast and bake table. \nAdults $7\, Children 5-12 $4\, under 5 free \nPlease call Jan at 902-689-2018 or call 902-830-2563 for more information or to help!
URL:https://newross.ca/event/christmas-festival-breakfast/
LOCATION:New Ross Fire Hall\, Highway 12\, New Ross\, Nova Scotia\, Canada
GEO:44.7375511;-64.4565265
X-APPLE-STRUCTURED-LOCATION;VALUE=URI;X-ADDRESS=New Ross Fire Hall Highway 12 New Ross Nova Scotia Canada;X-APPLE-RADIUS=500;X-TITLE=Highway 12:geo:-64.4565265,44.7375511
END:VEVENT
BEGIN:VEVENT
DTSTART;TZID=America/Halifax:20151204T163000
DTEND;TZID=America/Halifax:20151204T180000
DTSTAMP:20260420T150607
CREATED:20151126T182947Z
LAST-MODIFIED:20151126T182947Z
UID:10005062-1449246600-1449252000@newross.ca
SUMMARY:Christmas Festival Community Supper
DESCRIPTION:Menu includes baked beans\, ham\, salads\, scalloped potatoes\, pies\, and other desserts. \nSupper will be held at the New Ross Volunteer Fire Hall\, #4929 Hwy 12 from 4:30-:600pm on Friday December 4th. \nThere will be a table with Christmas and other items for sale.
URL:https://newross.ca/event/christmas-festival-community-supper/
LOCATION:New Ross Fire Hall\, Highway 12\, New Ross\, Nova Scotia\, Canada
GEO:44.7375511;-64.4565265
X-APPLE-STRUCTURED-LOCATION;VALUE=URI;X-ADDRESS=New Ross Fire Hall Highway 12 New Ross Nova Scotia Canada;X-APPLE-RADIUS=500;X-TITLE=Highway 12:geo:-64.4565265,44.7375511
END:VEVENT
BEGIN:VEVENT
DTSTART;TZID=America/Halifax:20151024T210000
DTEND;TZID=America/Halifax:20151024T210000
DTSTAMP:20260420T150607
CREATED:20150929T180630Z
LAST-MODIFIED:20151011T114751Z
UID:10000959-1445720400-1445720400@newross.ca
SUMMARY:Halloween Dance
DESCRIPTION:Halloween Dance at the New Ross Firehall on Saturday October 24th\, from 9:00pm – 1:00am (Doors open at 8:45pm). \nMusic by DJ Veinotte’s Hot Traxx. Tickets $7.00. Available at Barry Russell’s Service Station starting October 17th). \nPrizes will be awarded for: Most Original\, Most Humorous\, Most Artistic\, Spot Dances\, Special Door Prize! Judging will take place at 10:15pm. Ages 19+ are welcome.
URL:https://newross.ca/event/halloween-dance/
LOCATION:New Ross Fire Hall\, Highway 12\, New Ross\, Nova Scotia\, Canada
CATEGORIES:Featured
GEO:44.7375511;-64.4565265
X-APPLE-STRUCTURED-LOCATION;VALUE=URI;X-ADDRESS=New Ross Fire Hall Highway 12 New Ross Nova Scotia Canada;X-APPLE-RADIUS=500;X-TITLE=Highway 12:geo:-64.4565265,44.7375511
END:VEVENT
BEGIN:VEVENT
DTSTART;TZID=America/Halifax:20151003T090000
DTEND;TZID=America/Halifax:20151003T200000
DTSTAMP:20260420T150607
CREATED:20150929T172834Z
LAST-MODIFIED:20150929T172834Z
UID:10000945-1443862800-1443902400@newross.ca
SUMMARY:Crop For Cancer
DESCRIPTION:All money derived from the CROP FOR CANCER fundraiser will be donated to The Rosanne Himmelman Cancer Patient Fund\, which operates under the care of Health Services Foundation of the South Shore. This non-profit organization helps families who struggle financially while being treated for cancer. \nThere will be a TICKET AUCTION. Anyone wishing to donate items\, can bring them the morning of The Crop. \nIf you are not a scrap booker or card maker\, and wish to donate\, feel free to drop by any time during the day. All donations will receive a receipt. Please register in advance. Contact Mary Ann at 902-689-2276 or maturner@ns.sympatico.ca
URL:https://newross.ca/event/crop-for-cancer/
LOCATION:New Ross Fire Hall\, Highway 12\, New Ross\, Nova Scotia\, Canada
GEO:44.7375511;-64.4565265
X-APPLE-STRUCTURED-LOCATION;VALUE=URI;X-ADDRESS=New Ross Fire Hall Highway 12 New Ross Nova Scotia Canada;X-APPLE-RADIUS=500;X-TITLE=Highway 12:geo:-64.4565265,44.7375511
END:VEVENT
BEGIN:VEVENT
DTSTART;TZID=America/Halifax:20150923T190000
DTEND;TZID=America/Halifax:20150923T210000
DTSTAMP:20260420T150607
CREATED:20150904T143054Z
LAST-MODIFIED:20150904T143054Z
UID:10000363-1443034800-1443042000@newross.ca
SUMMARY:Municipal Plan Review-Meeting
DESCRIPTION:The Municipality of the District of Chester\, will host a round of public meetings\, as an ongoing public process which will update the goals and vision for our community. \nFor more information\, please contact: revision@chester.ca\, or call: 902-275-2599
URL:https://newross.ca/event/municipal-plan-review-meeting/
LOCATION:New Ross Fire Hall\, Highway 12\, New Ross\, Nova Scotia\, Canada
GEO:44.7375511;-64.4565265
X-APPLE-STRUCTURED-LOCATION;VALUE=URI;X-ADDRESS=New Ross Fire Hall Highway 12 New Ross Nova Scotia Canada;X-APPLE-RADIUS=500;X-TITLE=Highway 12:geo:-64.4565265,44.7375511
END:VEVENT
BEGIN:VEVENT
DTSTART;TZID=America/Halifax:20150829T090000
DTEND;TZID=America/Halifax:20150829T200000
DTSTAMP:20260420T150607
CREATED:20150729T144757Z
LAST-MODIFIED:20150804T121526Z
UID:10000317-1440838800-1440878400@newross.ca
SUMMARY:Crop for Cancer & Ticket Auction
DESCRIPTION:Come join us at the New Ross Fire Hall for some scrapbooking and card making. There will also be a Ticket Auction on site. If you do not scrapbook or make cards\, feel free to drop in to the Ticket Auction. \nCost is $40 and includes two meals. Please register in advance (by August 20th) by contacting Mary Ann at 902-689-2276. \nDonations and monies will be donated to ‘The Rosanne Himmelman Cancer Patient Fund’\, which operates under the care of Health Services Foundation of the South Shore. The Rose Fund is a non-profit organization that helps families who struggle financially while being treated for cancer. Donations will receive a receipt from the Health Services Foundation.
URL:https://newross.ca/event/crop-for-cancer-ticket-auction/
LOCATION:New Ross Fire Hall\, Highway 12\, New Ross\, Nova Scotia\, Canada
CATEGORIES:Featured
GEO:44.7375511;-64.4565265
X-APPLE-STRUCTURED-LOCATION;VALUE=URI;X-ADDRESS=New Ross Fire Hall Highway 12 New Ross Nova Scotia Canada;X-APPLE-RADIUS=500;X-TITLE=Highway 12:geo:-64.4565265,44.7375511
END:VEVENT
BEGIN:VEVENT
DTSTART;TZID=America/Halifax:20150613T140000
DTEND;TZID=America/Halifax:20150613T180000
DTSTAMP:20260420T150607
CREATED:20150525T174424Z
LAST-MODIFIED:20150608T233810Z
UID:10001632-1434204000-1434218400@newross.ca
SUMMARY:11th Annual Pig Roast
DESCRIPTION:Come join us for a Pig Roast and entertainment on June 13th from 4:30-600pm at the New Ross Firehall. \nEntertainment begins at 2pm with Rickey Naugler & Friends \nAdults: $10.00      Children 5-12: $5.00     Children under 5: FREE \nTake out is available. \nCall Janice at 902-689-2018 if you need more information or would like to donate your time to this event.
URL:https://newross.ca/event/11th-annual-pig-roast/
LOCATION:New Ross Fire Hall\, Highway 12\, New Ross\, Nova Scotia\, Canada
CATEGORIES:Featured
GEO:44.7375511;-64.4565265
X-APPLE-STRUCTURED-LOCATION;VALUE=URI;X-ADDRESS=New Ross Fire Hall Highway 12 New Ross Nova Scotia Canada;X-APPLE-RADIUS=500;X-TITLE=Highway 12:geo:-64.4565265,44.7375511
END:VEVENT
BEGIN:VEVENT
DTSTART;TZID=America/Halifax:20150502T073000
DTEND;TZID=America/Halifax:20150502T100000
DTSTAMP:20260420T150607
CREATED:20150429T201814Z
LAST-MODIFIED:20150430T232725Z
UID:10001338-1430551800-1430560800@newross.ca
SUMMARY:Mayfest Breakfast & Bake Sale
DESCRIPTION:Location: New Ross Firehall \nMenu: eggs\, bacon\, sausage\, toast\, pancakes\, baked beans\, juice\, tea and coffee. \nAdults: $7.00 \nChildren: Under 5 are FREE\, Ages 5-12\, $4.00 \nAny donations toward the bake sale may be dropped off at the hall the morning of the breakfast or picked up prior to\, by contacting any auxiliary member.
URL:https://newross.ca/event/mayfest-breakfast-bake-sale/
LOCATION:New Ross Fire Hall\, Highway 12\, New Ross\, Nova Scotia\, Canada
CATEGORIES:Featured
GEO:44.7375511;-64.4565265
X-APPLE-STRUCTURED-LOCATION;VALUE=URI;X-ADDRESS=New Ross Fire Hall Highway 12 New Ross Nova Scotia Canada;X-APPLE-RADIUS=500;X-TITLE=Highway 12:geo:-64.4565265,44.7375511
END:VEVENT
BEGIN:VEVENT
DTSTART;TZID=America/Halifax:20150418T130000
DTEND;TZID=America/Halifax:20150418T153000
DTSTAMP:20260420T150607
CREATED:20150401T190939Z
LAST-MODIFIED:20150402T200325Z
UID:10001235-1429362000-1429371000@newross.ca
SUMMARY:Fashion Show
DESCRIPTION:Come see a fashion show for the whole family! Spring and Summer wear. Tickets must be purchased in advance by April 11\, 2015. The tickets are available at All Is New Again Frenchy’s\, New Ross Credit Union and New Ross Home Hardware. \nCost is $12.00\, $6.00 for children 5-12\, Free for children under 5 \nAll proceeds are to support the New Ross Volunteer Fire Department.
URL:https://newross.ca/event/fashion-show/
LOCATION:New Ross Fire Hall\, Highway 12\, New Ross\, Nova Scotia\, Canada
CATEGORIES:Featured
GEO:44.7375511;-64.4565265
X-APPLE-STRUCTURED-LOCATION;VALUE=URI;X-ADDRESS=New Ross Fire Hall Highway 12 New Ross Nova Scotia Canada;X-APPLE-RADIUS=500;X-TITLE=Highway 12:geo:-64.4565265,44.7375511
END:VEVENT
BEGIN:VEVENT
DTSTART;VALUE=DATE:20150321
DTEND;VALUE=DATE:20150322
DTSTAMP:20260420T150607
CREATED:20150202T221301Z
LAST-MODIFIED:20150318T165620Z
UID:10000370-1426896000-1426982399@newross.ca
SUMMARY:Silent Auction & Ticket Auction
DESCRIPTION:Doors will open at 10:30am.  Sandwiches\, hot dogs\, sweets\, etc will be available. \nAuction starts at 2:00pm.  This is a family affair\, so plan to bring your children and have a great day at the Auction. \nThank you in advance for supporting the firehall.  Hope to see you there!
URL:https://newross.ca/event/silent-auction-ticket-auction/
LOCATION:New Ross Fire Hall\, Highway 12\, New Ross\, Nova Scotia\, Canada
CATEGORIES:Featured
GEO:44.7375511;-64.4565265
X-APPLE-STRUCTURED-LOCATION;VALUE=URI;X-ADDRESS=New Ross Fire Hall Highway 12 New Ross Nova Scotia Canada;X-APPLE-RADIUS=500;X-TITLE=Highway 12:geo:-64.4565265,44.7375511
END:VEVENT
BEGIN:VEVENT
DTSTART;TZID=America/Halifax:20150124T090000
DTEND;TZID=America/Halifax:20150124T103000
DTSTAMP:20260420T150607
CREATED:20150106T032559Z
LAST-MODIFIED:20150106T032559Z
UID:10000997-1422090000-1422095400@newross.ca
SUMMARY:New Ross Plan Review-Meeting
DESCRIPTION:Early in 2015 the Municipality of Chester will be hosting public meetings across the municipality discussing building healthy and strong communities. These meetings will help create a new Municipal Plan.  This Plan will guide growth and change over the next 20 years.  So come out and tell us what matters to you and your community! \n(Storm date: Sat.  Jan 31st @9am)
URL:https://newross.ca/event/new-ross-plan-review-meeting/
LOCATION:New Ross Fire Hall\, Highway 12\, New Ross\, Nova Scotia\, Canada
GEO:44.7375511;-64.4565265
X-APPLE-STRUCTURED-LOCATION;VALUE=URI;X-ADDRESS=New Ross Fire Hall Highway 12 New Ross Nova Scotia Canada;X-APPLE-RADIUS=500;X-TITLE=Highway 12:geo:-64.4565265,44.7375511
END:VEVENT
BEGIN:VEVENT
DTSTART;TZID=America/Halifax:20141126T190000
DTEND;TZID=America/Halifax:20141126T190000
DTSTAMP:20260420T150607
CREATED:20141103T134412Z
LAST-MODIFIED:20141103T134412Z
UID:10000374-1417028400-1417028400@newross.ca
SUMMARY:Comfort Centre Meeting
DESCRIPTION:This will be a community planning discussion for the district of New Ross to review emergency measures and a “shelter” during times of crisis.  Representatives from the Regional Emergency Measures Organization and Municipality of Chester will host the meeting.
URL:https://newross.ca/event/comfort-centre-meeting/
LOCATION:New Ross Fire Hall\, Highway 12\, New Ross\, Nova Scotia\, Canada
GEO:44.7375511;-64.4565265
X-APPLE-STRUCTURED-LOCATION;VALUE=URI;X-ADDRESS=New Ross Fire Hall Highway 12 New Ross Nova Scotia Canada;X-APPLE-RADIUS=500;X-TITLE=Highway 12:geo:-64.4565265,44.7375511
END:VEVENT
END:VCALENDAR