BEGIN:VCALENDAR
VERSION:2.0
PRODID:-//The Community of New Ross - ECPv6.15.20//NONSGML v1.0//EN
CALSCALE:GREGORIAN
METHOD:PUBLISH
X-WR-CALNAME:The Community of New Ross
X-ORIGINAL-URL:https://newross.ca
X-WR-CALDESC:Events for The Community of New Ross
REFRESH-INTERVAL;VALUE=DURATION:PT1H
X-Robots-Tag:noindex
X-PUBLISHED-TTL:PT1H
BEGIN:VTIMEZONE
TZID:America/Halifax
BEGIN:DAYLIGHT
TZOFFSETFROM:-0400
TZOFFSETTO:-0300
TZNAME:ADT
DTSTART:20150308T060000
END:DAYLIGHT
BEGIN:STANDARD
TZOFFSETFROM:-0300
TZOFFSETTO:-0400
TZNAME:AST
DTSTART:20151101T050000
END:STANDARD
BEGIN:DAYLIGHT
TZOFFSETFROM:-0400
TZOFFSETTO:-0300
TZNAME:ADT
DTSTART:20160313T060000
END:DAYLIGHT
BEGIN:STANDARD
TZOFFSETFROM:-0300
TZOFFSETTO:-0400
TZNAME:AST
DTSTART:20161106T050000
END:STANDARD
BEGIN:DAYLIGHT
TZOFFSETFROM:-0400
TZOFFSETTO:-0300
TZNAME:ADT
DTSTART:20170312T060000
END:DAYLIGHT
BEGIN:STANDARD
TZOFFSETFROM:-0300
TZOFFSETTO:-0400
TZNAME:AST
DTSTART:20171105T050000
END:STANDARD
END:VTIMEZONE
BEGIN:VEVENT
DTSTART;TZID=America/Halifax:20161122T190000
DTEND;TZID=America/Halifax:20161122T210000
DTSTAMP:20260420T095620
CREATED:20161026T183835Z
LAST-MODIFIED:20161026T183835Z
UID:10008930-1479841200-1479848400@newross.ca
SUMMARY:Ladies' Night @ Home Hardware
DESCRIPTION:Join us at New Ross Home Hardware on Tuesday\, November 22nd from 7-9pm. \nFree giveaways for the first 30 customers. Door prizes every 15 minutes. 15% of all merchandise (excluding building supplies and sale items). Grand Prize Draw for a Ladies Diamond Ring!
URL:https://newross.ca/event/ladies-night-home-hardware/
LOCATION:New Ross Home Hardware
END:VEVENT
END:VCALENDAR