BEGIN:VCALENDAR
VERSION:2.0
PRODID:-//The Community of New Ross - ECPv6.15.20//NONSGML v1.0//EN
CALSCALE:GREGORIAN
METHOD:PUBLISH
X-WR-CALNAME:The Community of New Ross
X-ORIGINAL-URL:https://newross.ca
X-WR-CALDESC:Events for The Community of New Ross
REFRESH-INTERVAL;VALUE=DURATION:PT1H
X-Robots-Tag:noindex
X-PUBLISHED-TTL:PT1H
BEGIN:VTIMEZONE
TZID:America/Halifax
BEGIN:DAYLIGHT
TZOFFSETFROM:-0400
TZOFFSETTO:-0300
TZNAME:ADT
DTSTART:20220313T060000
END:DAYLIGHT
BEGIN:STANDARD
TZOFFSETFROM:-0300
TZOFFSETTO:-0400
TZNAME:AST
DTSTART:20221106T050000
END:STANDARD
BEGIN:DAYLIGHT
TZOFFSETFROM:-0400
TZOFFSETTO:-0300
TZNAME:ADT
DTSTART:20230312T060000
END:DAYLIGHT
BEGIN:STANDARD
TZOFFSETFROM:-0300
TZOFFSETTO:-0400
TZNAME:AST
DTSTART:20231105T050000
END:STANDARD
BEGIN:DAYLIGHT
TZOFFSETFROM:-0400
TZOFFSETTO:-0300
TZNAME:ADT
DTSTART:20240310T060000
END:DAYLIGHT
BEGIN:STANDARD
TZOFFSETFROM:-0300
TZOFFSETTO:-0400
TZNAME:AST
DTSTART:20241103T050000
END:STANDARD
BEGIN:DAYLIGHT
TZOFFSETFROM:-0400
TZOFFSETTO:-0300
TZNAME:ADT
DTSTART:20250309T060000
END:DAYLIGHT
BEGIN:STANDARD
TZOFFSETFROM:-0300
TZOFFSETTO:-0400
TZNAME:AST
DTSTART:20251102T050000
END:STANDARD
END:VTIMEZONE
BEGIN:VEVENT
DTSTART;TZID=America/Halifax:20240510T170000
DTEND;TZID=America/Halifax:20240510T190000
DTSTAMP:20260425T235421
CREATED:20240505T183754Z
LAST-MODIFIED:20240505T183754Z
UID:10012875-1715360400-1715367600@newross.ca
SUMMARY:Soil our Bodies
DESCRIPTION:
URL:https://newross.ca/event/soil-our-bodies/
LOCATION:Ross Farm Museum
END:VEVENT
BEGIN:VEVENT
DTSTART;TZID=America/Halifax:20240418T183000
DTEND;TZID=America/Halifax:20240418T200000
DTSTAMP:20260425T235421
CREATED:20240411T155736Z
LAST-MODIFIED:20240411T155736Z
UID:10012773-1713465000-1713470400@newross.ca
SUMMARY:NR Community Care_Meeting
DESCRIPTION:Community Meeting\nThursday\, April 18\nPanel Discussion and Q&A: 6:30 – 8 pm \nRoss Farm Learning Centre – Hearth Room \nThe New Ross Community Care Centre Society have hit the ground running this year as we continue to work on cost estimates\, site planning and funding options for the affordable housing development. We have scheduled a community meeting to share our progress\, discuss the opportunities for community support (both financial and in-kind) and address any questions you may have about the community housing development. \nAn Evening in Support of the New Ross Community Care Centre\nSAVE THE DATE – Saturday\, June 1\, 2024 \nEnjoy a chef prepared meal\, music\, and fun with your friends and neighbors. Location: TBA. Tickets: $50 per person. Ticket sales begin soon. Watch for details online and in the next edition of the Flyer\, or email newrosscare@gmail.com.
URL:https://newross.ca/event/nr-community-care_meeting/
LOCATION:Ross Farm Museum
END:VEVENT
BEGIN:VEVENT
DTSTART;TZID=America/Halifax:20240407T093000
DTEND;TZID=America/Halifax:20240407T163000
DTSTAMP:20260425T235421
CREATED:20240405T164534Z
LAST-MODIFIED:20240405T164713Z
UID:10012750-1712482200-1712507400@newross.ca
SUMMARY:The Wonders of Maple Syrup
DESCRIPTION:
URL:https://newross.ca/event/the-wonders-of-maple-syrup/2024-04-07/
LOCATION:Ross Farm Museum
END:VEVENT
BEGIN:VEVENT
DTSTART;VALUE=DATE:20240302
DTEND;VALUE=DATE:20240325
DTSTAMP:20260425T235421
CREATED:20240209T175143Z
LAST-MODIFIED:20240209T175143Z
UID:10012738-1709337600-1711317599@newross.ca
SUMMARY:Heritage Skills
DESCRIPTION:
URL:https://newross.ca/event/heritage-skills/2024-03-02/
LOCATION:Ross Farm Museum
END:VEVENT
BEGIN:VEVENT
DTSTART;TZID=America/Halifax:20240229T180000
DTEND;TZID=America/Halifax:20240229T200000
DTSTAMP:20260425T235421
CREATED:20240209T173323Z
LAST-MODIFIED:20240209T173323Z
UID:10012729-1709229600-1709236800@newross.ca
SUMMARY:Community meeting_NRCCC
DESCRIPTION:Community Meeting\nThursday\, February 29 (Snow Date – March 7)\nDoors open: 6 pm\nPanel Discussion and Q&A: 6:30 – 8 pm\nRoss Farm Learning Centre – Hearth Room\nThe New Ross Community Care Centre Society have hit\nthe ground running this year as we continue to work on cost estimates\, site planning and funding options\nfor the affordable housing development. We have scheduled a community meeting to share our progress\,\ndiscuss the opportunities for community support (both financial and in-kind) and address any questions you\nmay have about the community housing development.\nDo you have your mug yet? They are available at $15 each. Aside from being a\ngood size (because we all know the morning mug has to be the ‘right’ size)\, a\n‘Home in the heart of New Ross’ mug is a visible reminder of the NRCCC’s goal\nto build affordable homes for our community members. It’s also a great gift\nfor those whose heart is here even if they are unable to be here. The mugs\nare $15 each and can be purchased at All Is New Again Frenchy’s (45 Forties\nRoad).\nSincerely\,\nThe NRCCC Board
URL:https://newross.ca/event/community-meeting_nrccc-2/
LOCATION:Ross Farm Museum
END:VEVENT
BEGIN:VEVENT
DTSTART;VALUE=DATE:20240225
DTEND;VALUE=DATE:20240226
DTSTAMP:20260425T235421
CREATED:20240209T175001Z
LAST-MODIFIED:20240209T175249Z
UID:10012737-1708848000-1708880400@newross.ca
SUMMARY:Snowshoe Making Demonstration
DESCRIPTION:
URL:https://newross.ca/event/snowshoe-making-demonstration/2024-02-25/
LOCATION:Ross Farm Museum
END:VEVENT
BEGIN:VEVENT
DTSTART;TZID=America/Halifax:20240218T130000
DTEND;TZID=America/Halifax:20240218T150000
DTSTAMP:20260425T235421
CREATED:20240209T173855Z
LAST-MODIFIED:20240209T173855Z
UID:10012730-1708261200-1708268400@newross.ca
SUMMARY:Beginner Crochet Workshop
DESCRIPTION:
URL:https://newross.ca/event/beginner-crochet-workshop/
LOCATION:Ross Farm Museum
END:VEVENT
BEGIN:VEVENT
DTSTART;VALUE=DATE:20240218
DTEND;VALUE=DATE:20240219
DTSTAMP:20260425T235421
CREATED:20240209T174803Z
LAST-MODIFIED:20240209T174803Z
UID:10012735-1708243200-1708275600@newross.ca
SUMMARY:Winter Frolic
DESCRIPTION:
URL:https://newross.ca/event/winter-frolic-6/2024-02-18/
LOCATION:Ross Farm Museum
END:VEVENT
BEGIN:VEVENT
DTSTART;TZID=America/Halifax:20240217T130000
DTEND;TZID=America/Halifax:20240217T150000
DTSTAMP:20260425T235421
CREATED:20240209T174246Z
LAST-MODIFIED:20240209T174246Z
UID:10012731-1708174800-1708182000@newross.ca
SUMMARY:Beginner Tatting Workshop
DESCRIPTION:
URL:https://newross.ca/event/beginner-tatting-workshop/
LOCATION:Ross Farm Museum
END:VEVENT
BEGIN:VEVENT
DTSTART;VALUE=DATE:20240211
DTEND;VALUE=DATE:20240212
DTSTAMP:20260425T235421
CREATED:20240209T174645Z
LAST-MODIFIED:20240209T174645Z
UID:10012733-1707638400-1707670800@newross.ca
SUMMARY:Toboggan Making Demonstration
DESCRIPTION:
URL:https://newross.ca/event/toboggan-making-demonstration-6/2024-02-11/
LOCATION:Ross Farm Museum
END:VEVENT
BEGIN:VEVENT
DTSTART;TZID=America/Halifax:20240121T090000
DTEND;TZID=America/Halifax:20240121T170000
DTSTAMP:20260425T235421
CREATED:20240119T165902Z
LAST-MODIFIED:20240119T165902Z
UID:10012636-1705827600-1705856400@newross.ca
SUMMARY:Logging Demonstration
DESCRIPTION:Logging Demonstration \nJanuary 20 & 21\n\n\nThis weekend our interpreters will be demonstrating traditional logging. Come watch as they cut down a tree using an axe and crosscut saw\, junk it up and yard it to the brow which was traditionally done using a team of horses or oxen.\n\n\nTentative times for yarding:\n10:30am- 11:00am\n3:00pm- 3:30pm\n\n\nStop and visit the intrepreters in Rosebank Cottage\, where you will get to learn how to cook a traditional logging camp meal of baked beans and brown bread. While you’re inside\, warm up and take the time to indulge your taste buds with a delicious sample.
URL:https://newross.ca/event/logging-demonstration/2024-01-21/
LOCATION:Ross Farm Museum
END:VEVENT
BEGIN:VEVENT
DTSTART;TZID=America/Halifax:20231203T100000
DTEND;TZID=America/Halifax:20231203T160000
DTSTAMP:20260425T235421
CREATED:20231103T154302Z
LAST-MODIFIED:20231103T154302Z
UID:10012185-1701597600-1701619200@newross.ca
SUMMARY:Art Show & Sale
DESCRIPTION:
URL:https://newross.ca/event/art-show-sale/2023-12-03/
LOCATION:Ross Farm Museum
END:VEVENT
BEGIN:VEVENT
DTSTART;TZID=America/Halifax:20231122T190000
DTEND;TZID=America/Halifax:20231122T203000
DTSTAMP:20260425T235421
CREATED:20231103T160214Z
LAST-MODIFIED:20231103T160214Z
UID:10012201-1700679600-1700685000@newross.ca
SUMMARY:Tale of 2 Soldiers
DESCRIPTION:
URL:https://newross.ca/event/tale-of-2-soldiers/
LOCATION:Ross Farm Museum
END:VEVENT
BEGIN:VEVENT
DTSTART;TZID=America/Halifax:20231014T110000
DTEND;TZID=America/Halifax:20231014T120000
DTSTAMP:20260425T235421
CREATED:20231010T181314Z
LAST-MODIFIED:20231010T181314Z
UID:10011895-1697281200-1697284800@newross.ca
SUMMARY:Ross Farm Fall 5k Run/Walk
DESCRIPTION:ROSS FARM 5K RUN / WALK All Ages (under 12 accompanied by adult)\nSaturday October 14 (Raindate October 15) 11am start Cost $10\nThe New Ross Trails Society will be hosting a 5K Run/Walk on the wonderful trails at Ross\nFarm Museum. Dress for the weather and wear appropriate footwear. The run will be timed\nbut no one will be taking it too seriously. This event is a fundraiser for the Society.\nRegistration can be done prior to the event by calling 902-275-3490 or starting at 10am the\nday of the event in the parking lot of the Ross Farm.
URL:https://newross.ca/event/ross-farm-fall-5k-run-walk/
LOCATION:Ross Farm Museum
END:VEVENT
BEGIN:VEVENT
DTSTART;TZID=America/Halifax:20231008T090000
DTEND;TZID=America/Halifax:20231008T170000
DTSTAMP:20260425T235421
CREATED:20230818T132915Z
LAST-MODIFIED:20230818T132915Z
UID:10011712-1696755600-1696784400@newross.ca
SUMMARY:Sauerkraut Making
DESCRIPTION:
URL:https://newross.ca/event/sauerkraut-making/2023-10-08/
LOCATION:Ross Farm Museum
END:VEVENT
BEGIN:VEVENT
DTSTART;TZID=America/Halifax:20230930T100000
DTEND;TZID=America/Halifax:20230930T160000
DTSTAMP:20260425T235421
CREATED:20230801T165141Z
LAST-MODIFIED:20230801T165225Z
UID:10011627-1696068000-1696089600@newross.ca
SUMMARY:Genealogy Fair
DESCRIPTION:
URL:https://newross.ca/event/genealogy/
LOCATION:Ross Farm Museum
END:VEVENT
BEGIN:VEVENT
DTSTART;TZID=America/Halifax:20230930T090000
DTEND;TZID=America/Halifax:20230930T170000
DTSTAMP:20260425T235421
CREATED:20230818T133048Z
LAST-MODIFIED:20230818T133048Z
UID:10011713-1696064400-1696093200@newross.ca
SUMMARY:National Truth & Reconciliation & Geneaology Fair
DESCRIPTION:
URL:https://newross.ca/event/national-truth-reconciliation-geneaology-fair/
LOCATION:Ross Farm Museum
END:VEVENT
BEGIN:VEVENT
DTSTART;TZID=America/Halifax:20230924T090000
DTEND;TZID=America/Halifax:20230924T170000
DTSTAMP:20260425T235421
CREATED:20230818T132711Z
LAST-MODIFIED:20230818T132711Z
UID:10011710-1695546000-1695574800@newross.ca
SUMMARY:Pumpkin Harvest
DESCRIPTION:
URL:https://newross.ca/event/pumpkin-harvest-3/2023-09-24/
LOCATION:Ross Farm Museum
END:VEVENT
BEGIN:VEVENT
DTSTART;TZID=America/Halifax:20230924T090000
DTEND;TZID=America/Halifax:20230924T170000
DTSTAMP:20260425T235421
CREATED:20230818T132548Z
LAST-MODIFIED:20230818T132548Z
UID:10011708-1695546000-1695574800@newross.ca
SUMMARY:Atlantic Canadian Military Association
DESCRIPTION:
URL:https://newross.ca/event/atlantic-canadian-military-association/2023-09-24/
LOCATION:Ross Farm Museum
END:VEVENT
BEGIN:VEVENT
DTSTART;TZID=America/Halifax:20230904T090000
DTEND;TZID=America/Halifax:20230904T170000
DTSTAMP:20260425T235421
CREATED:20230818T132352Z
LAST-MODIFIED:20230818T132352Z
UID:10011706-1693818000-1693846800@newross.ca
SUMMARY:Family Participation Days
DESCRIPTION:
URL:https://newross.ca/event/family-participation-days/2023-09-04/
LOCATION:Ross Farm Museum
END:VEVENT
BEGIN:VEVENT
DTSTART;TZID=America/Halifax:20230827T090000
DTEND;TZID=America/Halifax:20230827T170000
DTSTAMP:20260425T235421
CREATED:20230818T132206Z
LAST-MODIFIED:20230818T132206Z
UID:10011703-1693126800-1693155600@newross.ca
SUMMARY:Nothing But the Flax
DESCRIPTION:
URL:https://newross.ca/event/nothing-but-the-flax-3/2023-08-27/
LOCATION:Ross Farm Museum
END:VEVENT
BEGIN:VEVENT
DTSTART;VALUE=DATE:20230820
DTEND;VALUE=DATE:20230821
DTSTAMP:20260425T235421
CREATED:20230818T131935Z
LAST-MODIFIED:20230818T131935Z
UID:10011701-1692522000-1692550800@newross.ca
SUMMARY:Spoon Making
DESCRIPTION:
URL:https://newross.ca/event/spoon-making/2023-08-20/
LOCATION:Ross Farm Museum
END:VEVENT
BEGIN:VEVENT
DTSTART;VALUE=DATE:20230807
DTEND;VALUE=DATE:20230808
DTSTAMP:20260425T235421
CREATED:20230801T165752Z
LAST-MODIFIED:20230801T165752Z
UID:10011629-1691366400-1691452799@newross.ca
SUMMARY:New Ross 207th Birthday Celebration
DESCRIPTION:
URL:https://newross.ca/event/new-ross-207th-birthday-celebration/
LOCATION:Ross Farm Museum
END:VEVENT
BEGIN:VEVENT
DTSTART;TZID=America/Halifax:20230730T090000
DTEND;TZID=America/Halifax:20230730T170000
DTSTAMP:20260425T235421
CREATED:20230608T171719Z
LAST-MODIFIED:20230608T171719Z
UID:10011543-1690707600-1690736400@newross.ca
SUMMARY:A Handful of Straw
DESCRIPTION:SAT. JULY 29\n&\nSUN. JULY 30\nA Handful of Straw\nMaking hats by braiding natural\nfibres is considered an art by\nsome\, but at one time it was simply\na fact of life. When labourers were\nout all day under the hot sun\,\nprotection was a necessity. During\nthe late 18th to early 19th century\,\nthe wearing of straw hats by\nfarmers and labourers was quite\ncommon in both North America\nand Europe\, since the materials\nwere inexpensive and readily\navailable. This weekend staff will\nbe demonstrating the traditional\nart of straw-hat braiding.
URL:https://newross.ca/event/a-handful-of-straw-2/2023-07-30/
LOCATION:Ross Farm Museum
END:VEVENT
BEGIN:VEVENT
DTSTART;TZID=America/Halifax:20230723T090000
DTEND;TZID=America/Halifax:20230723T170000
DTSTAMP:20260425T235421
CREATED:20230608T171618Z
LAST-MODIFIED:20230608T171618Z
UID:10011541-1690102800-1690131600@newross.ca
SUMMARY:Ox Power
DESCRIPTION:SAT. JULY 22\n&\nSUN. JULY 23\nOx Power\nBefore the arrival of machines\,\nwork that was too hard for man\nwas carried out by trained\nanimals. For hundreds of years\, the\nOx has helped to do everything\nfrom preparing the land\, to moving\nheavy loads. This weekend you will\nhave the opportunity to see the\noxen at Ross Farm at work\, chat\nwith the teamster\, and learn what\nmade Oxen so important to\nsettlers in rural Nova Scotia.
URL:https://newross.ca/event/ox-power-2/2023-07-23/
LOCATION:Ross Farm Museum
END:VEVENT
BEGIN:VEVENT
DTSTART;TZID=America/Halifax:20230712T090000
DTEND;TZID=America/Halifax:20230712T170000
DTSTAMP:20260425T235421
CREATED:20230608T171522Z
LAST-MODIFIED:20230608T171522Z
UID:10011539-1689152400-1689181200@newross.ca
SUMMARY:From the Old Grindstone
DESCRIPTION:WED. JULY 12 \nFrom the Old Grindstone\nRoss Farm staff will be on hand\ntoday to demonstrate tool\nsharpening techniques\, using a\ngrindstone. They will show what\ntools can be sharpened using the\ngrindstone\, and the proper way to\nuse this device.
URL:https://newross.ca/event/from-the-old-grindstone-2/
LOCATION:Ross Farm Museum
END:VEVENT
BEGIN:VEVENT
DTSTART;TZID=America/Halifax:20230705T090000
DTEND;TZID=America/Halifax:20230705T170000
DTSTAMP:20260425T235421
CREATED:20230608T171409Z
LAST-MODIFIED:20230608T171409Z
UID:10011538-1688547600-1688576400@newross.ca
SUMMARY:Heritage Breeds
DESCRIPTION:WED. JULY 5 \nHeritage Breeds\nCome see the animals that are\npart of our agricultural history and\nheritage. If it were not for these\nanimals our forefathers could not\nhave survived and we would not\nbe here today. Now is your chance\nto pay tribute to these animals and\nsee what a significant role they\nplayed on the farm. Staff will be\non hand to answer any questions\nyou may have
URL:https://newross.ca/event/heritage-breeds/
LOCATION:Ross Farm Museum
END:VEVENT
BEGIN:VEVENT
DTSTART;TZID=America/Halifax:20230702T090000
DTEND;TZID=America/Halifax:20230702T170000
DTSTAMP:20260425T235421
CREATED:20230608T171256Z
LAST-MODIFIED:20230608T171256Z
UID:10011537-1688288400-1688317200@newross.ca
SUMMARY:Canada Day and Wood Chip Hats @ Ross Farm
DESCRIPTION:SAT. JULY 1 Canada Day\nHappy Birthday Canada! – Come\nenjoy some cake in the cottage\,\nactivities for the kids such as old fashioned games\, and a look at\nthe history of our country \nSAT. JULY 1\n&\nSUN. JULY 2\nWood Chip Hats\nStaff will demonstrate how to\nmake a hat\, using strips of wood\nknown as “sheens” stripped from\nfreshly gathered yellow birch logs
URL:https://newross.ca/event/canada-day-and-wood-chip-hats-ross-farm/2023-07-02/
LOCATION:Ross Farm Museum
END:VEVENT
BEGIN:VEVENT
DTSTART;TZID=America/Halifax:20230628T190000
DTEND;TZID=America/Halifax:20230628T203000
DTSTAMP:20260425T235421
CREATED:20220808T182924Z
LAST-MODIFIED:20220808T183023Z
UID:10010690-1687978800-1687984200@newross.ca
SUMMARY:New Ross Historical Society_Meeting
DESCRIPTION:New Ross Historical Society \nFor all things related to New Ross’s Heritage check out our local Historical Society! From old newspaper articles to vintage photos and genealogy. It is amazing the information they have on the events and the people that have shaped this wonderful Community! \nThe Historical Society meets monthly at 7pm on the 4th Wednesday of every month at the Ross Farm Museum.  Everyone is Welcome!! \nHere’s how you can contact this great organization: \nPO Box 35 \nNew Ross\, NS Canada B0J 2M0 \nnewrosshistorical@gmail.com    or    Follow us on Facebook!
URL:https://newross.ca/event/new-ross-historical-society_meeting/2023-06-28/
LOCATION:Ross Farm Museum
CATEGORIES:Featured
END:VEVENT
BEGIN:VEVENT
DTSTART;TZID=America/Halifax:20230625T090000
DTEND;TZID=America/Halifax:20230625T170000
DTSTAMP:20260425T235421
CREATED:20230608T170939Z
LAST-MODIFIED:20230608T170939Z
UID:10011535-1687683600-1687712400@newross.ca
SUMMARY:The Village Blacksmith
DESCRIPTION:SAT. JUNE 24\n&\nSUN. JUNE 25\nThe Village Blacksmith\nIf you have ever wanted to\nexperience the blacksmith at work\nduring the summer\, this weekend is\nnot one to miss! Our blacksmith\nwill be here at the farm for you to\nexperience and watch\, and maybe\nyou’ll be able to pick an item up in\nthe Pedlar’s Shop!
URL:https://newross.ca/event/the-village-blacksmith-5/2023-06-25/
LOCATION:Ross Farm Museum
END:VEVENT
END:VCALENDAR